FILENAME: O4710834.SWS.1118052.tif
QUADRANGLE_NAME: GRIFFEE COULEE
QUADRANT: SW
WEST_LONGITUDE: -108 52 30.00000
EAST_LONGITUDE: -108 48 45.00000
NORTH_LATITUDE: 47 26 15.00000
SOUTH_LATITUDE: 47 22 30.00000
PRODUCTION_DATE: 2000 11 2
RASTER_ORDER: LEFT_RIGHT/TOP_BOTTOM
BAND_ORGANIZATION: SINGLE FILE
BAND_CONTENT: BLACK&WHITE
BAND_CONTENT: UNDEFINED
BAND_CONTENT: UNDEFINED
BITS_PER_PIXEL: 8
SAMPLES_AND_LINES: 5564 7683
HORIZONTAL_DATUM: NAD83
HORIZONTAL_COORDINATE_SYSTEM: UTM
COORDINATE_ZONE: 12
HORIZONTAL_UNITS: METERS
HORIZONTAL_RESOLUTION: 1.00000
SECONDARY_HORIZONTAL_DATUM: NAD27
XY_ORIGIN: 659873.00000 5256404.00000
SECONDARY_XY_ORIGIN: 659931.62500 5256188.68300
NATION: US
NATION: "SCIENCE
STATE: MT
NW_QUAD_CORNER_XY: 660227.79800 5255972.71600
NE_QUAD_CORNER_XY: 664940.19100 5256103.39900
SE_QUAD_CORNERY_XY: 665135.49800 5249157.92500
SW_QUAD_CORNER_XY: 660417.52100 5249027.21800
SECONDARY_NW_QUAD_XY: 660232.78300 5255754.07100
SECONDARY_NE_QUAD_XY: 664945.32200 5255884.75900
SECONDARY_SE_QUAD_XY: 665140.62800 5248939.30800
SECONDARY_SW_QUAD_XY: 660422.50400 5248808.59700
RMSE_XY: 1.50000
IMAGE_SOURCE: BLACK AND WHITE FILM
SOURCE_IMAGE_ID: NAPP 9157 058
SOURCE_IMAGE_DATE: 1997 09 05
SOURCE_DEM_DATE: 1978 00 00
AGENCY: WESTERN MAPPING CENTER (WMC)
PRODUCER: UNDEFINED
PRODUCTION_SYSTEM: GIS/MAGIC
COMPRESSION: UNDEFINED
STANDARD_VERSION: 1996 12
METADATA_DATE: 2000 11 14
DATA_FILE_SIZE: 42753776
BYTE_COUNT: 5564
