FILENAME: O4710833.NES.1118045.tif
QUADRANGLE_NAME: ROY NW
QUADRANT: NE
WEST_LONGITUDE: -108 56 15.00000
EAST_LONGITUDE: -108 52 30.00000
NORTH_LATITUDE: 47 30 0.00000
SOUTH_LATITUDE: 47 26 15.00000
PRODUCTION_DATE: 2000 11 2
RASTER_ORDER: LEFT_RIGHT/TOP_BOTTOM
BAND_ORGANIZATION: SINGLE FILE
BAND_CONTENT: BLACK&WHITE
BAND_CONTENT: UNDEFINED
BAND_CONTENT: UNDEFINED
BITS_PER_PIXEL: 8
SAMPLES_AND_LINES: 5553 7679
HORIZONTAL_DATUM: NAD83
HORIZONTAL_COORDINATE_SYSTEM: UTM
COORDINATE_ZONE: 12
HORIZONTAL_UNITS: METERS
HORIZONTAL_RESOLUTION: 1.00000
SECONDARY_HORIZONTAL_DATUM: NAD27
XY_ORIGIN: 654976.00000 5263219.00000
SECONDARY_XY_ORIGIN: 655034.68200 5263003.58400
NATION: US
NATION: "SCIENCE
STATE: MT
NW_QUAD_CORNER_XY: 655331.06600 5262791.41000
NE_QUAD_CORNER_XY: 660037.88400 5262918.27900
SE_QUAD_CORNERY_XY: 660227.79800 5255972.71600
SW_QUAD_CORNER_XY: 655515.39000 5255845.82300
SECONDARY_NW_QUAD_XY: 655335.90400 5262572.74000
SECONDARY_NE_QUAD_XY: 660042.86900 5262699.61200
SECONDARY_SE_QUAD_XY: 660232.78300 5255754.07100
SECONDARY_SW_QUAD_XY: 655520.22700 5255627.17500
RMSE_XY: 1.30000
IMAGE_SOURCE: BLACK AND WHITE FILM
SOURCE_IMAGE_ID: NAPP 9147 115
SOURCE_IMAGE_DATE: 1996 08 24
SOURCE_DEM_DATE: 1978 00 00
AGENCY: WESTERN MAPPING CENTER (WMC)
PRODUCER: UNDEFINED
PRODUCTION_SYSTEM: GIS/MAGIC
COMPRESSION: UNDEFINED
STANDARD_VERSION: 1996 12
METADATA_DATE: 2000 11 14
DATA_FILE_SIZE: 42647040
BYTE_COUNT: 5553
