FILENAME: O4710832.NES.1116513.tif
QUADRANGLE_NAME: CHAIN BUTTES
QUADRANT: NE
WEST_LONGITUDE: -108 3 45.00000
EAST_LONGITUDE: -108 0 0.00000
NORTH_LATITUDE: 47 37 30.00000
SOUTH_LATITUDE: 47 33 45.00000
PRODUCTION_DATE: 2000 11 14
RASTER_ORDER: LEFT_RIGHT/TOP_BOTTOM
BAND_ORGANIZATION: SINGLE FILE
BAND_CONTENT: BLACK&WHITE
BAND_CONTENT: UNDEFINED
BAND_CONTENT: UNDEFINED
BITS_PER_PIXEL: 8
SAMPLES_AND_LINES: 5617 7731
HORIZONTAL_DATUM: NAD83
HORIZONTAL_COORDINATE_SYSTEM: UTM
COORDINATE_ZONE: 12
HORIZONTAL_UNITS: METERS
HORIZONTAL_RESOLUTION: 1.00000
SECONDARY_HORIZONTAL_DATUM: NAD27
XY_ORIGIN: 720347.00000 5279284.00000
SECONDARY_XY_ORIGIN: 720404.57400 5279067.59000
NATION: US
NATION: "SCIENCE
STATE: MT
NW_QUAD_CORNER_XY: 720698.80600 5278803.13800
NE_QUAD_CORNER_XY: 725394.13900 5278983.02700
SE_QUAD_CORNERY_XY: 725662.90000 5272037.76000
SW_QUAD_CORNER_XY: 720961.96000 5271857.83600
SECONDARY_NW_QUAD_XY: 720705.69900 5278584.49200
SECONDARY_NE_QUAD_XY: 725401.17800 5278764.38700
SECONDARY_SE_QUAD_XY: 725669.93900 5271819.14100
SECONDARY_SW_QUAD_XY: 720968.85200 5271639.21000
RMSE_XY: 3.70000
IMAGE_SOURCE: BLACK AND WHITE FILM
SOURCE_IMAGE_ID: NAPP 9142 105
SOURCE_IMAGE_DATE: 1996 08 24
SOURCE_IMAGE_ID: NAPP 9142 197
SOURCE_IMAGE_DATE: 1996 08 24
SOURCE_DEM_DATE: 1964 00 00
AGENCY: WESTERN MAPPING CENTER (WMC)
PRODUCER: UNDEFINED
PRODUCTION_SYSTEM: GIS/MAGIC
COMPRESSION: UNDEFINED
STANDARD_VERSION: 1996 12
METADATA_DATE: 2000 11 14
DATA_FILE_SIZE: 43430644
BYTE_COUNT: 5617
