FILENAME: O4710831.NES.1116409.tif
QUADRANGLE_NAME: DRY COULEE
QUADRANT: NE
WEST_LONGITUDE: -108 11 15.00000
EAST_LONGITUDE: -108 7 30.00000
NORTH_LATITUDE: 47 37 30.00000
SOUTH_LATITUDE: 47 33 45.00000
PRODUCTION_DATE: 2000 11 13
RASTER_ORDER: LEFT_RIGHT/TOP_BOTTOM
BAND_ORGANIZATION: SINGLE FILE
BAND_CONTENT: BLACK&WHITE
BAND_CONTENT: UNDEFINED
BAND_CONTENT: UNDEFINED
BITS_PER_PIXEL: 8
SAMPLES_AND_LINES: 5606 7723
HORIZONTAL_DATUM: NAD83
HORIZONTAL_COORDINATE_SYSTEM: UTM
COORDINATE_ZONE: 12
HORIZONTAL_UNITS: METERS
HORIZONTAL_RESOLUTION: 1.00000
SECONDARY_HORIZONTAL_DATUM: NAD27
XY_ORIGIN: 710956.00000 5278928.00000
SECONDARY_XY_ORIGIN: 711013.50700 5278711.53800
NATION: US
NATION: "SCIENCE
STATE: MT
NW_QUAD_CORNER_XY: 711308.06800 5278454.73800
NE_QUAD_CORNER_XY: 716003.44900 5278627.04200
SE_QUAD_CORNERY_XY: 716260.99500 5271681.70400
SW_QUAD_CORNER_XY: 711560.00800 5271509.36700
SECONDARY_NW_QUAD_XY: 711314.66800 5278236.08100
SECONDARY_NE_QUAD_XY: 716010.19500 5278408.39000
SECONDARY_SE_QUAD_XY: 716267.74100 5271463.07400
SECONDARY_SW_QUAD_XY: 711566.60700 5271290.73000
RMSE_XY: 2.00000
IMAGE_SOURCE: BLACK AND WHITE FILM
SOURCE_IMAGE_ID: NAPP 9143 089
SOURCE_IMAGE_DATE: 1996 08 24
SOURCE_DEM_DATE: 1964 00 00
AGENCY: WESTERN MAPPING CENTER (WMC)
PRODUCER: UNDEFINED
PRODUCTION_SYSTEM: GIS/MAGIC
COMPRESSION: UNDEFINED
STANDARD_VERSION: 1996 12
METADATA_DATE: 2000 11 14
DATA_FILE_SIZE: 43300744
BYTE_COUNT: 5606
