FILENAME: O4710831.NWS.1116410.tif
QUADRANGLE_NAME: DRY COULEE
QUADRANT: NW
WEST_LONGITUDE: -108 15 0.00000
EAST_LONGITUDE: -108 11 15.00000
NORTH_LATITUDE: 47 37 30.00000
SOUTH_LATITUDE: 47 33 45.00000
PRODUCTION_DATE: 2000 10 30
RASTER_ORDER: LEFT_RIGHT/TOP_BOTTOM
BAND_ORGANIZATION: SINGLE FILE
BAND_CONTENT: BLACK&WHITE
BAND_CONTENT: UNDEFINED
BAND_CONTENT: UNDEFINED
BITS_PER_PIXEL: 8
SAMPLES_AND_LINES: 5602 7719
HORIZONTAL_DATUM: NAD83
HORIZONTAL_COORDINATE_SYSTEM: UTM
COORDINATE_ZONE: 12
HORIZONTAL_UNITS: METERS
HORIZONTAL_RESOLUTION: 1.00000
SECONDARY_HORIZONTAL_DATUM: NAD27
XY_ORIGIN: 706260.00000 5278755.00000
SECONDARY_XY_ORIGIN: 706317.47400 5278538.51200
NATION: US
NATION: "SCIENCE
STATE: MT
NW_QUAD_CORNER_XY: 706612.66500 5278286.22600
NE_QUAD_CORNER_XY: 711308.06800 5278454.73800
SE_QUAD_CORNERY_XY: 711560.00800 5271509.36700
SW_QUAD_CORNER_XY: 706858.99800 5271340.82200
SECONDARY_NW_QUAD_XY: 706619.11700 5278067.56400
SECONDARY_NE_QUAD_XY: 711314.66800 5278236.08100
SECONDARY_SE_QUAD_XY: 711566.60700 5271290.73000
SECONDARY_SW_QUAD_XY: 706865.45000 5271122.18000
RMSE_XY: 2.50000
IMAGE_SOURCE: BLACK AND WHITE FILM
SOURCE_IMAGE_ID: NAPP 9143 182
SOURCE_IMAGE_DATE: 1996 08 24
SOURCE_DEM_DATE: 1964 00 00
AGENCY: WESTERN MAPPING CENTER (WMC)
PRODUCER: UNDEFINED
PRODUCTION_SYSTEM: GIS/MAGIC
COMPRESSION: UNDEFINED
STANDARD_VERSION: 1996 12
METADATA_DATE: 2000 11 14
DATA_FILE_SIZE: 43247440
BYTE_COUNT: 5602
