FILENAME: O4710831.SWS.1116412.tif
QUADRANGLE_NAME: DRY COULEE
QUADRANT: SW
WEST_LONGITUDE: -108 15 0.00000
EAST_LONGITUDE: -108 11 15.00000
NORTH_LATITUDE: 47 33 45.00000
SOUTH_LATITUDE: 47 30 0.00000
PRODUCTION_DATE: 2000 10 30
RASTER_ORDER: LEFT_RIGHT/TOP_BOTTOM
BAND_ORGANIZATION: SINGLE FILE
BAND_CONTENT: BLACK&WHITE
BAND_CONTENT: UNDEFINED
BAND_CONTENT: UNDEFINED
BITS_PER_PIXEL: 8
SAMPLES_AND_LINES: 5607 7719
HORIZONTAL_DATUM: NAD83
HORIZONTAL_COORDINATE_SYSTEM: UTM
COORDINATE_ZONE: 12
HORIZONTAL_UNITS: METERS
HORIZONTAL_RESOLUTION: 1.00000
SECONDARY_HORIZONTAL_DATUM: NAD27
XY_ORIGIN: 706506.00000 5271810.00000
SECONDARY_XY_ORIGIN: 706563.47600 5271593.61300
NATION: US
NATION: "SCIENCE
STATE: MT
NW_QUAD_CORNER_XY: 706858.99800 5271340.82200
NE_QUAD_CORNER_XY: 711560.00800 5271509.36700
SE_QUAD_CORNERY_XY: 711811.69500 5264564.05300
SW_QUAD_CORNER_XY: 707105.08400 5264395.47600
SECONDARY_NW_QUAD_XY: 706865.45000 5271122.18000
SECONDARY_NE_QUAD_XY: 711566.60700 5271290.73000
SECONDARY_SE_QUAD_XY: 711818.29300 5264345.43800
SECONDARY_SW_QUAD_XY: 707111.53500 5264176.85600
RMSE_XY: 1.10000
IMAGE_SOURCE: BLACK AND WHITE FILM
SOURCE_IMAGE_ID: NAPP 9143 184
SOURCE_IMAGE_DATE: 1996 08 24
SOURCE_DEM_DATE: 1964 00 00
AGENCY: WESTERN MAPPING CENTER (WMC)
PRODUCER: UNDEFINED
PRODUCTION_SYSTEM: GIS/MAGIC
COMPRESSION: UNDEFINED
STANDARD_VERSION: 1996 12
METADATA_DATE: 2000 11 14
DATA_FILE_SIZE: 43286040
BYTE_COUNT: 5607
