FILENAME: O4710829.NWS.1114531.tif
QUADRANGLE_NAME: KEPPLE BOTTOMS
QUADRANT: NW
WEST_LONGITUDE: -108 30 0.00000
EAST_LONGITUDE: -108 26 15.00000
NORTH_LATITUDE: 47 37 30.00000
SOUTH_LATITUDE: 47 33 45.00000
PRODUCTION_DATE: 2000 11 9
RASTER_ORDER: LEFT_RIGHT/TOP_BOTTOM
BAND_ORGANIZATION: SINGLE FILE
BAND_CONTENT: BLACK&WHITE
BAND_CONTENT: UNDEFINED
BAND_CONTENT: UNDEFINED
BITS_PER_PIXEL: 8
SAMPLES_AND_LINES: 5580 7704
HORIZONTAL_DATUM: NAD83
HORIZONTAL_COORDINATE_SYSTEM: UTM
COORDINATE_ZONE: 12
HORIZONTAL_UNITS: METERS
HORIZONTAL_RESOLUTION: 1.00000
SECONDARY_HORIZONTAL_DATUM: NAD27
XY_ORIGIN: 687477.00000 5278104.00000
SECONDARY_XY_ORIGIN: 687535.22600 5277887.67600
NATION: US
NATION: "SCIENCE
STATE: MT
NW_QUAD_CORNER_XY: 687830.83100 5277650.09300
NE_QUAD_CORNER_XY: 692526.32200 5277803.44000
SE_QUAD_CORNERY_XY: 692755.84000 5270857.94000
SW_QUAD_CORNER_XY: 688054.74500 5270704.56400
SECONDARY_NW_QUAD_XY: 687836.69700 5277431.41100
SECONDARY_NE_QUAD_XY: 692532.33400 5277584.76300
SECONDARY_SE_QUAD_XY: 692761.85100 5270639.28400
SECONDARY_SW_QUAD_XY: 688060.61000 5270485.90200
RMSE_XY: 2.10000
IMAGE_SOURCE: BLACK AND WHITE FILM
SOURCE_IMAGE_ID: NAPP 9144 150
SOURCE_IMAGE_DATE: 1996 08 25
SOURCE_DEM_DATE: 1970 00 00
AGENCY: WESTERN MAPPING CENTER (WMC)
PRODUCER: UNDEFINED
PRODUCTION_SYSTEM: GIS/MAGIC
COMPRESSION: UNDEFINED
STANDARD_VERSION: 1996 12
METADATA_DATE: 2000 11 30
DATA_FILE_SIZE: 42993900
BYTE_COUNT: 5580
