FILENAME: O4710829.SES.1114532.tif
QUADRANGLE_NAME: KEPPLE BOTTOMS
QUADRANT: SE
WEST_LONGITUDE: -108 26 15.00000
EAST_LONGITUDE: -108 22 30.00000
NORTH_LATITUDE: 47 33 45.00000
SOUTH_LATITUDE: 47 30 0.00000
PRODUCTION_DATE: 2000 11 6
RASTER_ORDER: LEFT_RIGHT/TOP_BOTTOM
BAND_ORGANIZATION: SINGLE FILE
BAND_CONTENT: BLACK&WHITE
BAND_CONTENT: UNDEFINED
BAND_CONTENT: UNDEFINED
BITS_PER_PIXEL: 8
SAMPLES_AND_LINES: 5591 7709
HORIZONTAL_DATUM: NAD83
HORIZONTAL_COORDINATE_SYSTEM: UTM
COORDINATE_ZONE: 12
HORIZONTAL_UNITS: METERS
HORIZONTAL_RESOLUTION: 1.00000
SECONDARY_HORIZONTAL_DATUM: NAD27
XY_ORIGIN: 692402.00000 5271316.00000
SECONDARY_XY_ORIGIN: 692460.00100 5271099.78100
NATION: US
NATION: "SCIENCE
STATE: MT
NW_QUAD_CORNER_XY: 692755.84000 5270857.94000
NE_QUAD_CORNER_XY: 697456.91400 5271015.10900
SE_QUAD_CORNERY_XY: 697691.80000 5264069.70100
SW_QUAD_CORNER_XY: 692985.12700 5263912.50200
SECONDARY_NW_QUAD_XY: 692761.85100 5270639.28400
SECONDARY_NE_QUAD_XY: 697463.07200 5270796.45700
SECONDARY_SE_QUAD_XY: 697697.95800 5263851.07000
SECONDARY_SW_QUAD_XY: 692991.13800 5263693.86700
RMSE_XY: 2.00000
IMAGE_SOURCE: BLACK AND WHITE FILM
SOURCE_IMAGE_ID: NAPP 9144 019
SOURCE_IMAGE_DATE: 1996 08 25
SOURCE_DEM_DATE: 1970 00 00
AGENCY: WESTERN MAPPING CENTER (WMC)
PRODUCER: UNDEFINED
PRODUCTION_SYSTEM: GIS/MAGIC
COMPRESSION: UNDEFINED
STANDARD_VERSION: 1996 12
METADATA_DATE: 2000 11 30
DATA_FILE_SIZE: 43106610
BYTE_COUNT: 5591
