FILENAME: O4710829.SWS.1114533.tif
QUADRANGLE_NAME: KEPPLE BOTTOMS
QUADRANT: SW
WEST_LONGITUDE: -108 30 0.00000
EAST_LONGITUDE: -108 26 15.00000
NORTH_LATITUDE: 47 33 45.00000
SOUTH_LATITUDE: 47 30 0.00000
PRODUCTION_DATE: 2000 11 6
RASTER_ORDER: LEFT_RIGHT/TOP_BOTTOM
BAND_ORGANIZATION: SINGLE FILE
BAND_CONTENT: BLACK&WHITE
BAND_CONTENT: UNDEFINED
BAND_CONTENT: UNDEFINED
BITS_PER_PIXEL: 8
SAMPLES_AND_LINES: 5586 7704
HORIZONTAL_DATUM: NAD83
HORIZONTAL_COORDINATE_SYSTEM: UTM
COORDINATE_ZONE: 12
HORIZONTAL_UNITS: METERS
HORIZONTAL_RESOLUTION: 1.00000
SECONDARY_HORIZONTAL_DATUM: NAD27
XY_ORIGIN: 687701.00000 5271158.00000
SECONDARY_XY_ORIGIN: 687759.17300 5270941.83600
NATION: US
NATION: "SCIENCE
STATE: MT
NW_QUAD_CORNER_XY: 688054.74500 5270704.56400
NE_QUAD_CORNER_XY: 692755.84000 5270857.94000
SE_QUAD_CORNERY_XY: 692985.12700 5263912.50200
SW_QUAD_CORNER_XY: 688278.43400 5263759.09600
SECONDARY_NW_QUAD_XY: 688060.61000 5270485.90200
SECONDARY_NE_QUAD_XY: 692761.85100 5270639.28400
SECONDARY_SE_QUAD_XY: 692991.13800 5263693.86700
SECONDARY_SW_QUAD_XY: 688284.29800 5263540.45600
RMSE_XY: 2.90000
IMAGE_SOURCE: BLACK AND WHITE FILM
SOURCE_IMAGE_ID: NAPP 9144 152
SOURCE_IMAGE_DATE: 1996 08 25
SOURCE_DEM_DATE: 1970 00 00
AGENCY: WESTERN MAPPING CENTER (WMC)
PRODUCER: UNDEFINED
PRODUCTION_SYSTEM: GIS/MAGIC
COMPRESSION: UNDEFINED
STANDARD_VERSION: 1996 12
METADATA_DATE: 2000 11 30
DATA_FILE_SIZE: 43040130
BYTE_COUNT: 5586
