FILENAME: O4710828.NES.1112794.tif
QUADRANGLE_NAME: CARTER COULEE
QUADRANT: NE
WEST_LONGITUDE: -108 33 45.00000
EAST_LONGITUDE: -108 30 0.00000
NORTH_LATITUDE: 47 37 30.00000
SOUTH_LATITUDE: 47 33 45.00000
PRODUCTION_DATE: 2000 11 9
RASTER_ORDER: LEFT_RIGHT/TOP_BOTTOM
BAND_ORGANIZATION: SINGLE FILE
BAND_CONTENT: BLACK&WHITE
BAND_CONTENT: UNDEFINED
BAND_CONTENT: UNDEFINED
BITS_PER_PIXEL: 8
SAMPLES_AND_LINES: 5575 7701
HORIZONTAL_DATUM: NAD83
HORIZONTAL_COORDINATE_SYSTEM: UTM
COORDINATE_ZONE: 12
HORIZONTAL_UNITS: METERS
HORIZONTAL_RESOLUTION: 1.00000
SECONDARY_HORIZONTAL_DATUM: NAD27
XY_ORIGIN: 682781.00000 5277951.00000
SECONDARY_XY_ORIGIN: 682839.34200 5277734.78900
NATION: US
NATION: "SCIENCE
STATE: MT
NW_QUAD_CORNER_XY: 683135.32100 5277500.53700
NE_QUAD_CORNER_XY: 687830.83100 5277650.09300
SE_QUAD_CORNERY_XY: 688054.74500 5270704.56400
SW_QUAD_CORNER_XY: 683353.63100 5270554.97800
SECONDARY_NW_QUAD_XY: 683141.04000 5277281.85100
SECONDARY_NE_QUAD_XY: 687836.69700 5277431.41100
SECONDARY_SE_QUAD_XY: 688060.61000 5270485.90200
SECONDARY_SW_QUAD_XY: 683359.34900 5270336.31200
RMSE_XY: 0.80000
IMAGE_SOURCE: BLACK AND WHITE FILM
SOURCE_IMAGE_ID: NAPP 9138 089
SOURCE_IMAGE_DATE: 1996 08 23
SOURCE_IMAGE_ID: NAPP 9138 181
SOURCE_IMAGE_DATE: 1996 08 23
SOURCE_DEM_DATE: 1952 00 00
AGENCY: WESTERN MAPPING CENTER (WMC)
PRODUCER: UNDEFINED
PRODUCTION_SYSTEM: GIS/MAGIC
COMPRESSION: UNDEFINED
STANDARD_VERSION: 1996 12
METADATA_DATE: 2000 11 30
DATA_FILE_SIZE: 42938650
BYTE_COUNT: 5575
