FILENAME: O4710828.NWS.1112795.tif
QUADRANGLE_NAME: CARTER COULEE
QUADRANT: NW
WEST_LONGITUDE: -108 37 30.00000
EAST_LONGITUDE: -108 33 45.00000
NORTH_LATITUDE: 47 37 30.00000
SOUTH_LATITUDE: 47 33 45.00000
PRODUCTION_DATE: 2000 11 9
RASTER_ORDER: LEFT_RIGHT/TOP_BOTTOM
BAND_ORGANIZATION: SINGLE FILE
BAND_CONTENT: BLACK&WHITE
BAND_CONTENT: UNDEFINED
BAND_CONTENT: UNDEFINED
BITS_PER_PIXEL: 8
SAMPLES_AND_LINES: 5570 7697
HORIZONTAL_DATUM: NAD83
HORIZONTAL_COORDINATE_SYSTEM: UTM
COORDINATE_ZONE: 12
HORIZONTAL_UNITS: METERS
HORIZONTAL_RESOLUTION: 1.00000
SECONDARY_HORIZONTAL_DATUM: NAD27
XY_ORIGIN: 678085.00000 5277801.00000
SECONDARY_XY_ORIGIN: 678143.45800 5277584.90600
NATION: US
NATION: "SCIENCE
STATE: MT
NW_QUAD_CORNER_XY: 678439.79100 5277354.77100
NE_QUAD_CORNER_XY: 683135.32100 5277500.53700
SE_QUAD_CORNERY_XY: 683353.63100 5270554.97800
SW_QUAD_CORNER_XY: 678652.49700 5270409.18300
SECONDARY_NW_QUAD_XY: 678445.36300 5277136.08000
SECONDARY_NE_QUAD_XY: 683141.04000 5277281.85100
SECONDARY_SE_QUAD_XY: 683359.34900 5270336.31200
SECONDARY_SW_QUAD_XY: 678658.06900 5270190.51300
RMSE_XY: 2.00000
IMAGE_SOURCE: BLACK AND WHITE FILM
SOURCE_IMAGE_ID: NAPP 9138 182
SOURCE_IMAGE_DATE: 1996 08 23
SOURCE_IMAGE_ID: NAPP 9138 181
SOURCE_IMAGE_DATE: 1996 08 23
SOURCE_DEM_DATE: 1952 00 00
AGENCY: WESTERN MAPPING CENTER (WMC)
PRODUCER: UNDEFINED
PRODUCTION_SYSTEM: GIS/MAGIC
COMPRESSION: UNDEFINED
STANDARD_VERSION: 1996 12
METADATA_DATE: 2000 11 30
DATA_FILE_SIZE: 42877860
BYTE_COUNT: 5570
