FILENAME: O4710828.SES.1112796.tif
QUADRANGLE_NAME: CARTER COULEE
QUADRANT: SE
WEST_LONGITUDE: -108 33 45.00000
EAST_LONGITUDE: -108 30 0.00000
NORTH_LATITUDE: 47 33 45.00000
SOUTH_LATITUDE: 47 30 0.00000
PRODUCTION_DATE: 2000 11 6
RASTER_ORDER: LEFT_RIGHT/TOP_BOTTOM
BAND_ORGANIZATION: SINGLE FILE
BAND_CONTENT: BLACK&WHITE
BAND_CONTENT: UNDEFINED
BAND_CONTENT: UNDEFINED
BITS_PER_PIXEL: 8
SAMPLES_AND_LINES: 5580 7701
HORIZONTAL_DATUM: NAD83
HORIZONTAL_COORDINATE_SYSTEM: UTM
COORDINATE_ZONE: 12
HORIZONTAL_UNITS: METERS
HORIZONTAL_RESOLUTION: 1.00000
SECONDARY_HORIZONTAL_DATUM: NAD27
XY_ORIGIN: 683000.00000 5271005.00000
SECONDARY_XY_ORIGIN: 683058.28700 5270788.93600
NATION: US
NATION: "SCIENCE
STATE: MT
NW_QUAD_CORNER_XY: 683353.63100 5270554.97800
NE_QUAD_CORNER_XY: 688054.74500 5270704.56400
SE_QUAD_CORNERY_XY: 688278.43400 5263759.09600
SW_QUAD_CORNER_XY: 683571.72100 5263609.48200
SECONDARY_NW_QUAD_XY: 683359.34900 5270336.31200
SECONDARY_NE_QUAD_XY: 688060.61000 5270485.90200
SECONDARY_SE_QUAD_XY: 688284.29800 5263540.45600
SECONDARY_SW_QUAD_XY: 683577.43900 5263390.83700
RMSE_XY: 1.00000
IMAGE_SOURCE: BLACK AND WHITE FILM
SOURCE_IMAGE_ID: NAPP 9138 087
SOURCE_IMAGE_DATE: 1996 08 23
SOURCE_DEM_DATE: 1952 00 00
AGENCY: WESTERN MAPPING CENTER (WMC)
PRODUCER: UNDEFINED
PRODUCTION_SYSTEM: GIS/MAGIC
COMPRESSION: UNDEFINED
STANDARD_VERSION: 1996 12
METADATA_DATE: 2000 11 30
DATA_FILE_SIZE: 42977160
BYTE_COUNT: 5580
