FILENAME: O4710828.SWS.1112797.tif
QUADRANGLE_NAME: CARTER COULEE
QUADRANT: SW
WEST_LONGITUDE: -108 37 30.00000
EAST_LONGITUDE: -108 33 45.00000
NORTH_LATITUDE: 47 33 45.00000
SOUTH_LATITUDE: 47 30 0.00000
PRODUCTION_DATE: 2000 11 6
RASTER_ORDER: LEFT_RIGHT/TOP_BOTTOM
BAND_ORGANIZATION: SINGLE FILE
BAND_CONTENT: BLACK&WHITE
BAND_CONTENT: UNDEFINED
BAND_CONTENT: UNDEFINED
BITS_PER_PIXEL: 8
SAMPLES_AND_LINES: 5575 7697
HORIZONTAL_DATUM: NAD83
HORIZONTAL_COORDINATE_SYSTEM: UTM
COORDINATE_ZONE: 12
HORIZONTAL_UNITS: METERS
HORIZONTAL_RESOLUTION: 1.00000
SECONDARY_HORIZONTAL_DATUM: NAD27
XY_ORIGIN: 678298.00000 5270855.00000
SECONDARY_XY_ORIGIN: 678356.40200 5270639.04100
NATION: US
NATION: "SCIENCE
STATE: MT
NW_QUAD_CORNER_XY: 678652.49700 5270409.18300
NE_QUAD_CORNER_XY: 683353.63100 5270554.97800
SE_QUAD_CORNERY_XY: 683571.72100 5263609.48200
SW_QUAD_CORNER_XY: 678864.99000 5263463.65900
SECONDARY_NW_QUAD_XY: 678658.06900 5270190.51300
SECONDARY_NE_QUAD_XY: 683359.34900 5270336.31200
SECONDARY_SE_QUAD_XY: 683577.43900 5263390.83700
SECONDARY_SW_QUAD_XY: 678870.56100 5263245.00900
RMSE_XY: 3.50000
IMAGE_SOURCE: BLACK AND WHITE FILM
SOURCE_IMAGE_ID: NAPP 9138 184
SOURCE_IMAGE_DATE: 1996 08 23
SOURCE_IMAGE_ID: NAPP 9138 183
SOURCE_IMAGE_DATE: 1996 08 23
SOURCE_DEM_DATE: 1952 00 00
AGENCY: WESTERN MAPPING CENTER (WMC)
PRODUCER: UNDEFINED
PRODUCTION_SYSTEM: GIS/MAGIC
COMPRESSION: UNDEFINED
STANDARD_VERSION: 1996 12
METADATA_DATE: 2000 11 30
DATA_FILE_SIZE: 42916350
BYTE_COUNT: 5575
