FILENAME: O4710826.NWS.1082516.tif
QUADRANGLE_NAME: MITCHELL CROSSING
QUADRANT: NW
WEST_LONGITUDE: -108 52 30.00000
EAST_LONGITUDE: -108 48 45.00000
NORTH_LATITUDE: 47 37 30.00000
SOUTH_LATITUDE: 47 33 45.00000
PRODUCTION_DATE: 2000 6 8
RASTER_ORDER: LEFT_RIGHT/TOP_BOTTOM
BAND_ORGANIZATION: SINGLE FILE
BAND_CONTENT: BLACK&WHITE
BAND_CONTENT: UNDEFINED
BAND_CONTENT: UNDEFINED
BITS_PER_PIXEL: 8
SAMPLES_AND_LINES: 5548 7683
HORIZONTAL_DATUM: NAD83
HORIZONTAL_COORDINATE_SYSTEM: UTM
COORDINATE_ZONE: 12
HORIZONTAL_UNITS: METERS
HORIZONTAL_RESOLUTION: 1.00000
SECONDARY_HORIZONTAL_DATUM: NAD27
XY_ORIGIN: 659302.00000 5277241.00000
SECONDARY_XY_ORIGIN: 659360.71700 5277025.30200
NATION: US
NATION: "SCIENCE
STATE: MT
NW_QUAD_CORNER_XY: 659657.48100 5276809.60200
NE_QUAD_CORNER_XY: 664353.08500 5276940.21000
SE_QUAD_CORNERY_XY: 664548.98500 5269994.54200
SW_QUAD_CORNER_XY: 659847.77800 5269863.90800
SECONDARY_NW_QUAD_XY: 659662.46700 5276590.89400
SECONDARY_NE_QUAD_XY: 664358.21800 5276721.50700
SECONDARY_SE_QUAD_XY: 664554.11600 5269775.85800
SECONDARY_SW_QUAD_XY: 659852.76400 5269645.22000
RMSE_XY: 1.80000
IMAGE_SOURCE: BLACK AND WHITE FILM
SOURCE_IMAGE_ID: NAPP 9157 064
SOURCE_IMAGE_DATE: 1997 09 05
SOURCE_IMAGE_ID: NAPP 9147 118
SOURCE_IMAGE_DATE: 1996 08 24
SOURCE_IMAGE_ID: NAPP 9147 120
SOURCE_IMAGE_DATE: 1996 08 24
SOURCE_IMAGE_ID: NAPP 9157 063
SOURCE_IMAGE_DATE: 1997 09 05
SOURCE_IMAGE_ID: NAPP 9157 065
SOURCE_IMAGE_DATE: 1997 09 05
SOURCE_DEM_DATE: 1988 00 00
AGENCY: WESTERN MAPPING CENTER (WMC)
PRODUCER: UNDEFINED
PRODUCTION_SYSTEM: GIS/MAGIC
COMPRESSION: UNDEFINED
STANDARD_VERSION: 1996 12
METADATA_DATE: 2000 06 15
DATA_FILE_SIZE: 42630832
BYTE_COUNT: 5548
