FILENAME: O4710826.SES.1082518.tif
QUADRANGLE_NAME: MITCHELL CROSSING
QUADRANT: SE
WEST_LONGITUDE: -108 48 45.00000
EAST_LONGITUDE: -108 45 0.00000
NORTH_LATITUDE: 47 33 45.00000
SOUTH_LATITUDE: 47 30 0.00000
PRODUCTION_DATE: 2000 6 8
RASTER_ORDER: LEFT_RIGHT/TOP_BOTTOM
BAND_ORGANIZATION: SINGLE FILE
BAND_CONTENT: BLACK&WHITE
BAND_CONTENT: UNDEFINED
BAND_CONTENT: UNDEFINED
BITS_PER_PIXEL: 8
SAMPLES_AND_LINES: 5559 7686
HORIZONTAL_DATUM: NAD83
HORIZONTAL_COORDINATE_SYSTEM: UTM
COORDINATE_ZONE: 12
HORIZONTAL_UNITS: METERS
HORIZONTAL_RESOLUTION: 1.00000
SECONDARY_HORIZONTAL_DATUM: NAD27
XY_ORIGIN: 664194.00000 5270429.00000
SECONDARY_XY_ORIGIN: 664252.65500 5270213.33000
NATION: US
NATION: "SCIENCE
STATE: MT
NW_QUAD_CORNER_XY: 664548.98500 5269994.54200
NE_QUAD_CORNER_XY: 669250.17300 5270128.96500
SE_QUAD_CORNERY_XY: 669451.47200 5263183.38700
SW_QUAD_CORNER_XY: 664744.68700 5263048.93800
SECONDARY_NW_QUAD_XY: 664554.11600 5269775.85800
SECONDARY_NE_QUAD_XY: 669255.45200 5269910.28600
SECONDARY_SE_QUAD_XY: 669456.75000 5262964.72900
SECONDARY_SW_QUAD_XY: 664749.81800 5262830.27500
RMSE_XY: 1.40000
IMAGE_SOURCE: BLACK AND WHITE FILM
SOURCE_IMAGE_ID: NAPP 9157 159
SOURCE_IMAGE_DATE: 1997 09 05
SOURCE_DEM_DATE: 1988 00 00
AGENCY: WESTERN MAPPING CENTER (WMC)
PRODUCER: UNDEFINED
PRODUCTION_SYSTEM: GIS/MAGIC
COMPRESSION: UNDEFINED
STANDARD_VERSION: 1996 12
METADATA_DATE: 2000 06 15
DATA_FILE_SIZE: 42732033
BYTE_COUNT: 5559
