FILENAME: O4710825.NES.1083341.tif
QUADRANGLE_NAME: THOMPSON COULEE
QUADRANT: NE
WEST_LONGITUDE: -108 56 15.00000
EAST_LONGITUDE: -108 52 30.00000
NORTH_LATITUDE: 47 37 30.00000
SOUTH_LATITUDE: 47 33 45.00000
PRODUCTION_DATE: 2000 6 9
RASTER_ORDER: LEFT_RIGHT/TOP_BOTTOM
BAND_ORGANIZATION: SINGLE FILE
BAND_CONTENT: BLACK&WHITE
BAND_CONTENT: UNDEFINED
BAND_CONTENT: UNDEFINED
BITS_PER_PIXEL: 8
SAMPLES_AND_LINES: 5543 7679
HORIZONTAL_DATUM: NAD83
HORIZONTAL_COORDINATE_SYSTEM: UTM
COORDINATE_ZONE: 12
HORIZONTAL_UNITS: METERS
HORIZONTAL_RESOLUTION: 1.00000
SECONDARY_HORIZONTAL_DATUM: NAD27
XY_ORIGIN: 654606.00000 5277110.00000
SECONDARY_XY_ORIGIN: 654664.73300 5276894.38300
NATION: US
NATION: "SCIENCE
STATE: MT
NW_QUAD_CORNER_XY: 654961.85900 5276682.78200
NE_QUAD_CORNER_XY: 659657.48100 5276809.60200
SE_QUAD_CORNERY_XY: 659847.77800 5269863.90800
SW_QUAD_CORNER_XY: 655146.55500 5269737.06300
SECONDARY_NW_QUAD_XY: 654966.69800 5276464.07000
SECONDARY_NE_QUAD_XY: 659662.46700 5276590.89400
SECONDARY_SE_QUAD_XY: 659852.76400 5269645.22000
SECONDARY_SW_QUAD_XY: 655151.39400 5269518.37100
RMSE_XY: 1.40000
IMAGE_SOURCE: BLACK AND WHITE FILM
SOURCE_IMAGE_ID: NAPP 9147 119
SOURCE_IMAGE_DATE: 1996 08 24
SOURCE_IMAGE_ID: NAPP 9147 118
SOURCE_IMAGE_DATE: 1996 08 24
SOURCE_IMAGE_ID: NAPP 9147 120
SOURCE_IMAGE_DATE: 1996 08 24
SOURCE_IMAGE_ID: NAPP 9157 064
SOURCE_IMAGE_DATE: 1997 09 05
SOURCE_DEM_DATE: 1993 00 00
AGENCY: WESTERN MAPPING CENTER (WMC)
PRODUCER: UNDEFINED
PRODUCTION_SYSTEM: GIS/MAGIC
COMPRESSION: UNDEFINED
STANDARD_VERSION: 1996 12
METADATA_DATE: 2000 06 15
DATA_FILE_SIZE: 42570240
BYTE_COUNT: 5543
