FILENAME: O4710825.SES.1083343.tif
QUADRANGLE_NAME: THOMPSON COULEE
QUADRANT: SE
WEST_LONGITUDE: -108 56 15.00000
EAST_LONGITUDE: -108 52 30.00000
NORTH_LATITUDE: 47 33 45.00000
SOUTH_LATITUDE: 47 30 0.00000
PRODUCTION_DATE: 2000 6 9
RASTER_ORDER: LEFT_RIGHT/TOP_BOTTOM
BAND_ORGANIZATION: SINGLE FILE
BAND_CONTENT: BLACK&WHITE
BAND_CONTENT: UNDEFINED
BAND_CONTENT: UNDEFINED
BITS_PER_PIXEL: 8
SAMPLES_AND_LINES: 5548 7678
HORIZONTAL_DATUM: NAD83
HORIZONTAL_COORDINATE_SYSTEM: UTM
COORDINATE_ZONE: 12
HORIZONTAL_UNITS: METERS
HORIZONTAL_RESOLUTION: 1.00000
SECONDARY_HORIZONTAL_DATUM: NAD27
XY_ORIGIN: 654791.00000 5270164.00000
SECONDARY_XY_ORIGIN: 654849.70700 5269948.48700
NATION: US
NATION: "SCIENCE
STATE: MT
NW_QUAD_CORNER_XY: 655146.55500 5269737.06300
NE_QUAD_CORNER_XY: 659847.77800 5269863.90800
SE_QUAD_CORNERY_XY: 660037.88400 5262918.27900
SW_QUAD_CORNER_XY: 655331.06600 5262791.41000
SECONDARY_NW_QUAD_XY: 655151.39400 5269518.37100
SECONDARY_NE_QUAD_XY: 659852.76400 5269645.22000
SECONDARY_SE_QUAD_XY: 660042.86900 5262699.61200
SECONDARY_SW_QUAD_XY: 655335.90400 5262572.74000
RMSE_XY: 2.40000
IMAGE_SOURCE: BLACK AND WHITE FILM
SOURCE_IMAGE_ID: NAPP 9147 117
SOURCE_IMAGE_DATE: 1996 08 24
SOURCE_IMAGE_ID: NAPP 9147 116
SOURCE_IMAGE_DATE: 1996 08 24
SOURCE_IMAGE_ID: NAPP 9147 118
SOURCE_IMAGE_DATE: 1996 08 24
SOURCE_DEM_DATE: 1993 00 00
AGENCY: WESTERN MAPPING CENTER (WMC)
PRODUCER: UNDEFINED
PRODUCTION_SYSTEM: GIS/MAGIC
COMPRESSION: UNDEFINED
STANDARD_VERSION: 1996 12
METADATA_DATE: 2000 06 15
DATA_FILE_SIZE: 42603092
BYTE_COUNT: 5548
