FILENAME: O4710825.SWS.1083344.tif
QUADRANGLE_NAME: THOMPSON COULEE
QUADRANT: SW
WEST_LONGITUDE: -109 0 0.00000
EAST_LONGITUDE: -108 56 15.00000
NORTH_LATITUDE: 47 33 45.00000
SOUTH_LATITUDE: 47 30 0.00000
PRODUCTION_DATE: 2000 6 9
RASTER_ORDER: LEFT_RIGHT/TOP_BOTTOM
BAND_ORGANIZATION: SINGLE FILE
BAND_CONTENT: BLACK&WHITE
BAND_CONTENT: UNDEFINED
BAND_CONTENT: UNDEFINED
BITS_PER_PIXEL: 8
SAMPLES_AND_LINES: 5543 7676
HORIZONTAL_DATUM: NAD83
HORIZONTAL_COORDINATE_SYSTEM: UTM
COORDINATE_ZONE: 12
HORIZONTAL_UNITS: METERS
HORIZONTAL_RESOLUTION: 1.00000
SECONDARY_HORIZONTAL_DATUM: NAD27
XY_ORIGIN: 650090.00000 5270038.00000
SECONDARY_XY_ORIGIN: 650148.73300 5269822.56500
NATION: US
NATION: "SCIENCE
STATE: MT
NW_QUAD_CORNER_XY: 650445.31600 5269614.00800
NE_QUAD_CORNER_XY: 655146.55500 5269737.06300
SE_QUAD_CORNERY_XY: 655331.06600 5262791.41000
SW_QUAD_CORNER_XY: 650624.23100 5262668.33100
SECONDARY_NW_QUAD_XY: 650450.00800 5269395.31200
SECONDARY_NE_QUAD_XY: 655151.39400 5269518.37100
SECONDARY_SE_QUAD_XY: 655335.90400 5262572.74000
SECONDARY_SW_QUAD_XY: 650628.92200 5262449.65700
RMSE_XY: 1.10000
IMAGE_SOURCE: BLACK AND WHITE FILM
SOURCE_IMAGE_ID: NAPP 9147 214
SOURCE_IMAGE_DATE: 1996 08 24
SOURCE_IMAGE_ID: NAPP 9129 043
SOURCE_IMAGE_DATE: 1996 07 27
SOURCE_IMAGE_ID: NAPP 9129 042
SOURCE_IMAGE_DATE: 1996 07 27
SOURCE_IMAGE_ID: NAPP 9147 215
SOURCE_IMAGE_DATE: 1996 08 24
SOURCE_IMAGE_ID: NAPP 9147 213
SOURCE_IMAGE_DATE: 1996 08 24
SOURCE_DEM_DATE: 1993 00 00
AGENCY: WESTERN MAPPING CENTER (WMC)
PRODUCER: UNDEFINED
PRODUCTION_SYSTEM: GIS/MAGIC
COMPRESSION: UNDEFINED
STANDARD_VERSION: 1996 12
METADATA_DATE: 2000 06 15
DATA_FILE_SIZE: 42553611
BYTE_COUNT: 5543
