FILENAME: O4710824.SWS.1116512.tif
QUADRANGLE_NAME: KARSTEN COULEE
QUADRANT: SW
WEST_LONGITUDE: -108 7 30.00000
EAST_LONGITUDE: -108 3 45.00000
NORTH_LATITUDE: 47 41 15.00000
SOUTH_LATITUDE: 47 37 30.00000
PRODUCTION_DATE: 2000 11 14
RASTER_ORDER: LEFT_RIGHT/TOP_BOTTOM
BAND_ORGANIZATION: SINGLE FILE
BAND_CONTENT: BLACK&WHITE
BAND_CONTENT: UNDEFINED
BAND_CONTENT: UNDEFINED
BITS_PER_PIXEL: 8
SAMPLES_AND_LINES: 5607 7727
HORIZONTAL_DATUM: NAD83
HORIZONTAL_COORDINATE_SYSTEM: UTM
COORDINATE_ZONE: 12
HORIZONTAL_UNITS: METERS
HORIZONTAL_RESOLUTION: 1.00000
SECONDARY_HORIZONTAL_DATUM: NAD27
XY_ORIGIN: 715393.00000 5286049.00000
SECONDARY_XY_ORIGIN: 715450.53200 5285832.51600
NATION: US
NATION: "SCIENCE
STATE: MT
NW_QUAD_CORNER_XY: 715745.64400 5285572.43600
NE_QUAD_CORNER_XY: 720435.38800 5285748.49600
SE_QUAD_CORNERY_XY: 720698.80600 5278803.13800
SW_QUAD_CORNER_XY: 716003.44900 5278627.04200
SECONDARY_NW_QUAD_XY: 715752.39000 5285353.76500
SECONDARY_NE_QUAD_XY: 720442.28100 5285529.83200
SECONDARY_SE_QUAD_XY: 720705.69900 5278584.49200
SECONDARY_SW_QUAD_XY: 716010.19500 5278408.39000
RMSE_XY: 1.00000
IMAGE_SOURCE: BLACK AND WHITE FILM
SOURCE_IMAGE_ID: NAPP 9142 196
SOURCE_IMAGE_DATE: 1996 08 24
SOURCE_IMAGE_ID: NAPP 9142 197
SOURCE_IMAGE_DATE: 1996 08 24
SOURCE_DEM_DATE: 1964 00 00
AGENCY: WESTERN MAPPING CENTER (WMC)
PRODUCER: UNDEFINED
PRODUCTION_SYSTEM: GIS/MAGIC
COMPRESSION: UNDEFINED
STANDARD_VERSION: 1996 12
METADATA_DATE: 2000 11 14
DATA_FILE_SIZE: 43330896
BYTE_COUNT: 5607
