FILENAME: O4710823.NES.1116405.tif
QUADRANGLE_NAME: LAKE RESERVOIR
QUADRANT: NE
WEST_LONGITUDE: -108 11 15.00000
EAST_LONGITUDE: -108 7 30.00000
NORTH_LATITUDE: 47 45 0.00000
SOUTH_LATITUDE: 47 41 15.00000
PRODUCTION_DATE: 2000 11 13
RASTER_ORDER: LEFT_RIGHT/TOP_BOTTOM
BAND_ORGANIZATION: SINGLE FILE
BAND_CONTENT: BLACK&WHITE
BAND_CONTENT: UNDEFINED
BAND_CONTENT: UNDEFINED
BITS_PER_PIXEL: 8
SAMPLES_AND_LINES: 5596 7722
HORIZONTAL_DATUM: NAD83
HORIZONTAL_COORDINATE_SYSTEM: UTM
COORDINATE_ZONE: 12
HORIZONTAL_UNITS: METERS
HORIZONTAL_RESOLUTION: 1.00000
SECONDARY_HORIZONTAL_DATUM: NAD27
XY_ORIGIN: 710451.00000 5292818.00000
SECONDARY_XY_ORIGIN: 710508.49600 5292601.39000
NATION: US
NATION: "SCIENCE
STATE: MT
NW_QUAD_CORNER_XY: 710803.43000 5292345.65300
NE_QUAD_CORNER_XY: 715487.58000 5292517.88700
SE_QUAD_CORNERY_XY: 715745.64400 5285572.43600
SW_QUAD_CORNER_XY: 711055.87600 5285400.16700
SECONDARY_NW_QUAD_XY: 710810.03100 5292126.95900
SECONDARY_NE_QUAD_XY: 715494.32800 5292299.19800
SECONDARY_SE_QUAD_XY: 715752.39000 5285353.76500
SECONDARY_SW_QUAD_XY: 711062.47600 5285181.49100
RMSE_XY: 0.80000
IMAGE_SOURCE: BLACK AND WHITE FILM
SOURCE_IMAGE_ID: NAPP 9143 093
SOURCE_IMAGE_DATE: 1996 08 24
SOURCE_IMAGE_ID: NAPP 9142 194
SOURCE_IMAGE_DATE: 1996 08 24
SOURCE_DEM_DATE: 1964 00 00
AGENCY: WESTERN MAPPING CENTER (WMC)
PRODUCER: UNDEFINED
PRODUCTION_SYSTEM: GIS/MAGIC
COMPRESSION: UNDEFINED
STANDARD_VERSION: 1996 12
METADATA_DATE: 2000 11 14
DATA_FILE_SIZE: 43217908
BYTE_COUNT: 5596
