FILENAME: O4710822.SWS.1114577.tif
QUADRANGLE_NAME: BLIZZARD RESERVOIR
QUADRANT: SW
WEST_LONGITUDE: -108 22 30.00000
EAST_LONGITUDE: -108 18 45.00000
NORTH_LATITUDE: 47 41 15.00000
SOUTH_LATITUDE: 47 37 30.00000
PRODUCTION_DATE: 2000 11 9
RASTER_ORDER: LEFT_RIGHT/TOP_BOTTOM
BAND_ORGANIZATION: SINGLE FILE
BAND_CONTENT: BLACK&WHITE
BAND_CONTENT: UNDEFINED
BAND_CONTENT: UNDEFINED
BITS_PER_PIXEL: 8
SAMPLES_AND_LINES: 5586 7712
HORIZONTAL_DATUM: NAD83
HORIZONTAL_COORDINATE_SYSTEM: UTM
COORDINATE_ZONE: 12
HORIZONTAL_UNITS: METERS
HORIZONTAL_RESOLUTION: 1.00000
SECONDARY_HORIZONTAL_DATUM: NAD27
XY_ORIGIN: 696633.00000 5285368.00000
SECONDARY_XY_ORIGIN: 696690.88100 5285151.46500
NATION: US
NATION: "SCIENCE
STATE: MT
NW_QUAD_CORNER_XY: 696986.43200 5284906.10600
NE_QUAD_CORNER_XY: 701676.26900 5285067.00200
SE_QUAD_CORNERY_XY: 701917.23900 5278121.50600
SW_QUAD_CORNER_XY: 697221.79100 5277960.57700
SECONDARY_NW_QUAD_XY: 696992.59200 5284687.41400
SECONDARY_NE_QUAD_XY: 701682.57600 5284848.31600
SECONDARY_SE_QUAD_XY: 701923.54500 5277902.83900
SECONDARY_SW_QUAD_XY: 697227.95000 5277741.90500
RMSE_XY: 1.70000
IMAGE_SOURCE: BLACK AND WHITE FILM
SOURCE_IMAGE_ID: NAPP 9143 266
SOURCE_IMAGE_DATE: 1996 08 24
SOURCE_IMAGE_ID: NAPP 9143 267
SOURCE_IMAGE_DATE: 1996 08 24
SOURCE_DEM_DATE: 1970 00 00
AGENCY: WESTERN MAPPING CENTER (WMC)
PRODUCER: UNDEFINED
PRODUCTION_SYSTEM: GIS/MAGIC
COMPRESSION: UNDEFINED
STANDARD_VERSION: 1996 12
METADATA_DATE: 2000 11 30
DATA_FILE_SIZE: 43084818
BYTE_COUNT: 5586
