FILENAME: O4710821.NES.1114526.tif
QUADRANGLE_NAME: SAGEBRUSH RESERVOIR
QUADRANT: NE
WEST_LONGITUDE: -108 26 15.00000
EAST_LONGITUDE: -108 22 30.00000
NORTH_LATITUDE: 47 45 0.00000
SOUTH_LATITUDE: 47 41 15.00000
PRODUCTION_DATE: 2000 11 9
RASTER_ORDER: LEFT_RIGHT/TOP_BOTTOM
BAND_ORGANIZATION: SINGLE FILE
BAND_CONTENT: BLACK&WHITE
BAND_CONTENT: UNDEFINED
BAND_CONTENT: UNDEFINED
BITS_PER_PIXEL: 8
SAMPLES_AND_LINES: 5575 7708
HORIZONTAL_DATUM: NAD83
HORIZONTAL_COORDINATE_SYSTEM: UTM
COORDINATE_ZONE: 12
HORIZONTAL_UNITS: METERS
HORIZONTAL_RESOLUTION: 1.00000
SECONDARY_HORIZONTAL_DATUM: NAD27
XY_ORIGIN: 691713.00000 5292152.00000
SECONDARY_XY_ORIGIN: 691771.11900 5291935.34700
NATION: US
NATION: "SCIENCE
STATE: MT
NW_QUAD_CORNER_XY: 692066.59400 5291694.62100
NE_QUAD_CORNER_XY: 696750.83800 5291851.69400
SE_QUAD_CORNERY_XY: 696986.43200 5284906.10600
SW_QUAD_CORNER_XY: 692296.57300 5284749.00000
SECONDARY_NW_QUAD_XY: 692072.60800 5291475.90600
SECONDARY_NE_QUAD_XY: 696756.99800 5291632.98500
SECONDARY_SE_QUAD_XY: 696992.59200 5284687.41400
SECONDARY_SW_QUAD_XY: 692302.58600 5284530.30400
RMSE_XY: 0.90000
IMAGE_SOURCE: BLACK AND WHITE FILM
SOURCE_IMAGE_ID: NAPP 9144 025
SOURCE_IMAGE_DATE: 1996 08 25
SOURCE_DEM_DATE: 1970 00 00
AGENCY: WESTERN MAPPING CENTER (WMC)
PRODUCER: UNDEFINED
PRODUCTION_SYSTEM: GIS/MAGIC
COMPRESSION: UNDEFINED
STANDARD_VERSION: 1996 12
METADATA_DATE: 2000 11 30
DATA_FILE_SIZE: 42977675
BYTE_COUNT: 5575
