FILENAME: O4710821.NWS.1114527.tif
QUADRANGLE_NAME: SAGEBRUSH RESERVOIR
QUADRANT: NW
WEST_LONGITUDE: -108 30 0.00000
EAST_LONGITUDE: -108 26 15.00000
NORTH_LATITUDE: 47 45 0.00000
SOUTH_LATITUDE: 47 41 15.00000
PRODUCTION_DATE: 2000 11 9
RASTER_ORDER: LEFT_RIGHT/TOP_BOTTOM
BAND_ORGANIZATION: SINGLE FILE
BAND_CONTENT: BLACK&WHITE
BAND_CONTENT: UNDEFINED
BAND_CONTENT: UNDEFINED
BITS_PER_PIXEL: 8
SAMPLES_AND_LINES: 5570 7704
HORIZONTAL_DATUM: NAD83
HORIZONTAL_COORDINATE_SYSTEM: UTM
COORDINATE_ZONE: 12
HORIZONTAL_UNITS: METERS
HORIZONTAL_RESOLUTION: 1.00000
SECONDARY_HORIZONTAL_DATUM: NAD27
XY_ORIGIN: 687028.00000 5291995.00000
SECONDARY_XY_ORIGIN: 687086.33200 5291778.35700
NATION: US
NATION: "SCIENCE
STATE: MT
NW_QUAD_CORNER_XY: 687382.33000 5291541.33700
NE_QUAD_CORNER_XY: 692066.59400 5291694.62100
SE_QUAD_CORNERY_XY: 692296.57300 5284749.00000
SW_QUAD_CORNER_XY: 687606.69300 5284595.68400
SECONDARY_NW_QUAD_XY: 687388.19700 5291322.61700
SECONDARY_NE_QUAD_XY: 692072.60800 5291475.90600
SECONDARY_SE_QUAD_XY: 692302.58600 5284530.30400
SECONDARY_SW_QUAD_XY: 687612.55900 5284376.98300
RMSE_XY: 1.50000
IMAGE_SOURCE: BLACK AND WHITE FILM
SOURCE_IMAGE_ID: NAPP 9144 146
SOURCE_IMAGE_DATE: 1996 08 25
SOURCE_DEM_DATE: 1970 00 00
AGENCY: WESTERN MAPPING CENTER (WMC)
PRODUCER: UNDEFINED
PRODUCTION_SYSTEM: GIS/MAGIC
COMPRESSION: UNDEFINED
STANDARD_VERSION: 1996 12
METADATA_DATE: 2000 11 30
DATA_FILE_SIZE: 42916850
BYTE_COUNT: 5570
