FILENAME: O4710821.SES.1114528.tif
QUADRANGLE_NAME: SAGEBRUSH RESERVOIR
QUADRANT: SE
WEST_LONGITUDE: -108 26 15.00000
EAST_LONGITUDE: -108 22 30.00000
NORTH_LATITUDE: 47 41 15.00000
SOUTH_LATITUDE: 47 37 30.00000
PRODUCTION_DATE: 2000 11 9
RASTER_ORDER: LEFT_RIGHT/TOP_BOTTOM
BAND_ORGANIZATION: SINGLE FILE
BAND_CONTENT: BLACK&WHITE
BAND_CONTENT: UNDEFINED
BAND_CONTENT: UNDEFINED
BITS_PER_PIXEL: 8
SAMPLES_AND_LINES: 5580 7708
HORIZONTAL_DATUM: NAD83
HORIZONTAL_COORDINATE_SYSTEM: UTM
COORDINATE_ZONE: 12
HORIZONTAL_UNITS: METERS
HORIZONTAL_RESOLUTION: 1.00000
SECONDARY_HORIZONTAL_DATUM: NAD27
XY_ORIGIN: 691943.00000 5285207.00000
SECONDARY_XY_ORIGIN: 692001.08000 5284990.49100
NATION: US
NATION: "SCIENCE
STATE: MT
NW_QUAD_CORNER_XY: 692296.57300 5284749.00000
NE_QUAD_CORNER_XY: 696986.43200 5284906.10600
SE_QUAD_CORNERY_XY: 697221.79100 5277960.57700
SW_QUAD_CORNER_XY: 692526.32200 5277803.44000
SECONDARY_NW_QUAD_XY: 692302.58600 5284530.30400
SECONDARY_NE_QUAD_XY: 696992.59200 5284687.41400
SECONDARY_SE_QUAD_XY: 697227.95000 5277741.90500
SECONDARY_SW_QUAD_XY: 692532.33400 5277584.76300
RMSE_XY: 1.20000
IMAGE_SOURCE: BLACK AND WHITE FILM
SOURCE_IMAGE_ID: NAPP 9144 023
SOURCE_IMAGE_DATE: 1996 08 25
SOURCE_DEM_DATE: 1970 00 00
AGENCY: WESTERN MAPPING CENTER (WMC)
PRODUCER: UNDEFINED
PRODUCTION_SYSTEM: GIS/MAGIC
COMPRESSION: UNDEFINED
STANDARD_VERSION: 1996 12
METADATA_DATE: 2000 11 30
DATA_FILE_SIZE: 43016220
BYTE_COUNT: 5580
