FILENAME: O4710821.SWS.1114529.tif
QUADRANGLE_NAME: SAGEBRUSH RESERVOIR
QUADRANT: SW
WEST_LONGITUDE: -108 30 0.00000
EAST_LONGITUDE: -108 26 15.00000
NORTH_LATITUDE: 47 41 15.00000
SOUTH_LATITUDE: 47 37 30.00000
PRODUCTION_DATE: 2000 11 9
RASTER_ORDER: LEFT_RIGHT/TOP_BOTTOM
BAND_ORGANIZATION: SINGLE FILE
BAND_CONTENT: BLACK&WHITE
BAND_CONTENT: UNDEFINED
BAND_CONTENT: UNDEFINED
BITS_PER_PIXEL: 8
SAMPLES_AND_LINES: 5575 7704
HORIZONTAL_DATUM: NAD83
HORIZONTAL_COORDINATE_SYSTEM: UTM
COORDINATE_ZONE: 12
HORIZONTAL_UNITS: METERS
HORIZONTAL_RESOLUTION: 1.00000
SECONDARY_HORIZONTAL_DATUM: NAD27
XY_ORIGIN: 687253.00000 5285049.00000
SECONDARY_XY_ORIGIN: 687311.27900 5284832.51600
NATION: US
NATION: "SCIENCE
STATE: MT
NW_QUAD_CORNER_XY: 687606.69300 5284595.68400
NE_QUAD_CORNER_XY: 692296.57300 5284749.00000
SE_QUAD_CORNERY_XY: 692526.32200 5277803.44000
SW_QUAD_CORNER_XY: 687830.83100 5277650.09300
SECONDARY_NW_QUAD_XY: 687612.55900 5284376.98300
SECONDARY_NE_QUAD_XY: 692302.58600 5284530.30400
SECONDARY_SE_QUAD_XY: 692532.33400 5277584.76300
SECONDARY_SW_QUAD_XY: 687836.69700 5277431.41100
RMSE_XY: 1.50000
IMAGE_SOURCE: BLACK AND WHITE FILM
SOURCE_IMAGE_ID: NAPP 9144 148
SOURCE_IMAGE_DATE: 1996 08 25
SOURCE_IMAGE_ID: NAPP 9144 149
SOURCE_IMAGE_DATE: 1996 08 25
SOURCE_DEM_DATE: 1970 00 00
AGENCY: WESTERN MAPPING CENTER (WMC)
PRODUCER: UNDEFINED
PRODUCTION_SYSTEM: GIS/MAGIC
COMPRESSION: UNDEFINED
STANDARD_VERSION: 1996 12
METADATA_DATE: 2000 11 30
DATA_FILE_SIZE: 42955375
BYTE_COUNT: 5575
