FILENAME: O4710820.NWS.1112815.tif
QUADRANGLE_NAME: BELL RIDGE EAST
QUADRANT: NW
WEST_LONGITUDE: -108 37 30.00000
EAST_LONGITUDE: -108 33 45.00000
NORTH_LATITUDE: 47 45 0.00000
SOUTH_LATITUDE: 47 41 15.00000
PRODUCTION_DATE: 2000 11 9
RASTER_ORDER: LEFT_RIGHT/TOP_BOTTOM
BAND_ORGANIZATION: SINGLE FILE
BAND_CONTENT: BLACK&WHITE
BAND_CONTENT: UNDEFINED
BAND_CONTENT: UNDEFINED
BITS_PER_PIXEL: 8
SAMPLES_AND_LINES: 5559 7697
HORIZONTAL_DATUM: NAD83
HORIZONTAL_COORDINATE_SYSTEM: UTM
COORDINATE_ZONE: 12
HORIZONTAL_UNITS: METERS
HORIZONTAL_RESOLUTION: 1.00000
SECONDARY_HORIZONTAL_DATUM: NAD27
XY_ORIGIN: 677659.00000 5291692.00000
SECONDARY_XY_ORIGIN: 677717.56800 5291475.63800
NATION: US
NATION: "SCIENCE
STATE: MT
NW_QUAD_CORNER_XY: 678013.73700 5291246.13500
NE_QUAD_CORNER_XY: 682698.04300 5291391.84100
SE_QUAD_CORNERY_XY: 682916.79200 5284446.15800
SW_QUAD_CORNER_XY: 678226.87000 5284300.42100
SECONDARY_NW_QUAD_XY: 678019.31000 5291027.40600
SECONDARY_NE_QUAD_XY: 682703.76400 5291173.11700
SECONDARY_SE_QUAD_XY: 682922.51200 5284227.45200
SECONDARY_SW_QUAD_XY: 678232.44300 5284081.71100
RMSE_XY: 2.00000
IMAGE_SOURCE: BLACK AND WHITE FILM
SOURCE_IMAGE_ID: NAPP 9138 178
SOURCE_IMAGE_DATE: 1996 08 23
SOURCE_IMAGE_ID: NAPP 9138 177
SOURCE_IMAGE_DATE: 1996 08 23
SOURCE_DEM_DATE: 1952 00 00
AGENCY: WESTERN MAPPING CENTER (WMC)
PRODUCER: UNDEFINED
PRODUCTION_SYSTEM: GIS/MAGIC
COMPRESSION: UNDEFINED
STANDARD_VERSION: 1996 12
METADATA_DATE: 2000 11 13
DATA_FILE_SIZE: 42793182
BYTE_COUNT: 5559
