FILENAME: O4710820.SES.1112816.tif
QUADRANGLE_NAME: BELL RIDGE EAST
QUADRANT: SE
WEST_LONGITUDE: -108 33 45.00000
EAST_LONGITUDE: -108 30 0.00000
NORTH_LATITUDE: 47 41 15.00000
SOUTH_LATITUDE: 47 37 30.00000
PRODUCTION_DATE: 2000 11 9
RASTER_ORDER: LEFT_RIGHT/TOP_BOTTOM
BAND_ORGANIZATION: SINGLE FILE
BAND_CONTENT: BLACK&WHITE
BAND_CONTENT: UNDEFINED
BAND_CONTENT: UNDEFINED
BITS_PER_PIXEL: 8
SAMPLES_AND_LINES: 5569 7700
HORIZONTAL_DATUM: NAD83
HORIZONTAL_COORDINATE_SYSTEM: UTM
COORDINATE_ZONE: 12
HORIZONTAL_UNITS: METERS
HORIZONTAL_RESOLUTION: 1.00000
SECONDARY_HORIZONTAL_DATUM: NAD27
XY_ORIGIN: 682563.00000 5284896.00000
SECONDARY_XY_ORIGIN: 682621.39500 5284679.64300
NATION: US
NATION: "SCIENCE
STATE: MT
NW_QUAD_CORNER_XY: 682916.79200 5284446.15800
NE_QUAD_CORNER_XY: 687606.69300 5284595.68400
SE_QUAD_CORNERY_XY: 687830.83100 5277650.09300
SW_QUAD_CORNER_XY: 683135.32100 5277500.53700
SECONDARY_NW_QUAD_XY: 682922.51200 5284227.45200
SECONDARY_NE_QUAD_XY: 687612.55900 5284376.98300
SECONDARY_SE_QUAD_XY: 687836.69700 5277431.41100
SECONDARY_SW_QUAD_XY: 683141.04000 5277281.85100
RMSE_XY: 1.10000
IMAGE_SOURCE: BLACK AND WHITE FILM
SOURCE_IMAGE_ID: NAPP 9138 091
SOURCE_IMAGE_DATE: 1996 08 23
SOURCE_DEM_DATE: 1952 00 00
AGENCY: WESTERN MAPPING CENTER (WMC)
PRODUCER: UNDEFINED
PRODUCTION_SYSTEM: GIS/MAGIC
COMPRESSION: UNDEFINED
STANDARD_VERSION: 1996 12
METADATA_DATE: 2000 11 13
DATA_FILE_SIZE: 42886869
BYTE_COUNT: 5569
