FILENAME: O4710819.NES.1083056.tif
QUADRANGLE_NAME: BELL RIDGE WEST
QUADRANT: NE
WEST_LONGITUDE: -108 41 15.00000
EAST_LONGITUDE: -108 37 30.00000
NORTH_LATITUDE: 47 45 0.00000
SOUTH_LATITUDE: 47 41 15.00000
PRODUCTION_DATE: 2000 6 8
RASTER_ORDER: LEFT_RIGHT/TOP_BOTTOM
BAND_ORGANIZATION: SINGLE FILE
BAND_CONTENT: BLACK&WHITE
BAND_CONTENT: UNDEFINED
BAND_CONTENT: UNDEFINED
BITS_PER_PIXEL: 8
SAMPLES_AND_LINES: 5553 7694
HORIZONTAL_DATUM: NAD83
HORIZONTAL_COORDINATE_SYSTEM: UTM
COORDINATE_ZONE: 12
HORIZONTAL_UNITS: METERS
HORIZONTAL_RESOLUTION: 1.00000
SECONDARY_HORIZONTAL_DATUM: NAD27
XY_ORIGIN: 672975.00000 5291547.00000
SECONDARY_XY_ORIGIN: 673033.68800 5291330.77800
NATION: US
NATION: "SCIENCE
STATE: MT
NW_QUAD_CORNER_XY: 673329.40900 5291104.21600
NE_QUAD_CORNER_XY: 678013.73700 5291246.13500
SE_QUAD_CORNERY_XY: 678226.87000 5284300.42100
SW_QUAD_CORNER_XY: 673536.92900 5284158.47300
SECONDARY_NW_QUAD_XY: 673334.83600 5290885.48300
SECONDARY_NE_QUAD_XY: 678019.31000 5291027.40600
SECONDARY_SE_QUAD_XY: 678232.44300 5284081.71100
SECONDARY_SW_QUAD_XY: 673542.35600 5283939.75900
RMSE_XY: 2.80000
IMAGE_SOURCE: BLACK AND WHITE FILM
SOURCE_IMAGE_ID: NAPP 9144 177
SOURCE_IMAGE_DATE: 1996 08 25
SOURCE_DEM_DATE: 1982 00 00
AGENCY: WESTERN MAPPING CENTER (WMC)
PRODUCER: UNDEFINED
PRODUCTION_SYSTEM: GIS/MAGIC
COMPRESSION: UNDEFINED
STANDARD_VERSION: 1996 12
METADATA_DATE: 2000 06 15
DATA_FILE_SIZE: 42730335
BYTE_COUNT: 5553
