FILENAME: O4710819.SWS.1083059.tif
QUADRANGLE_NAME: BELL RIDGE WEST
QUADRANT: SW
WEST_LONGITUDE: -108 45 0.00000
EAST_LONGITUDE: -108 41 15.00000
NORTH_LATITUDE: 47 41 15.00000
SOUTH_LATITUDE: 47 37 30.00000
PRODUCTION_DATE: 2000 6 8
RASTER_ORDER: LEFT_RIGHT/TOP_BOTTOM
BAND_ORGANIZATION: SINGLE FILE
BAND_CONTENT: BLACK&WHITE
BAND_CONTENT: UNDEFINED
BAND_CONTENT: UNDEFINED
BITS_PER_PIXEL: 8
SAMPLES_AND_LINES: 5554 7690
HORIZONTAL_DATUM: NAD83
HORIZONTAL_COORDINATE_SYSTEM: UTM
COORDINATE_ZONE: 12
HORIZONTAL_UNITS: METERS
HORIZONTAL_RESOLUTION: 1.00000
SECONDARY_HORIZONTAL_DATUM: NAD27
XY_ORIGIN: 668492.00000 5284459.00000
SECONDARY_XY_ORIGIN: 668550.74900 5284243.02800
NATION: US
NATION: "SCIENCE
STATE: MT
NW_QUAD_CORNER_XY: 668846.96900 5284020.31500
NE_QUAD_CORNER_XY: 673536.92900 5284158.47300
SE_QUAD_CORNERY_XY: 673744.24100 5277212.79400
SW_QUAD_CORNER_XY: 669048.67200 5277074.60800
SECONDARY_NW_QUAD_XY: 668852.24800 5283801.59500
SECONDARY_NE_QUAD_XY: 673542.35600 5283939.75900
SECONDARY_SE_QUAD_XY: 673749.66700 5276994.09900
SECONDARY_SW_QUAD_XY: 669053.95100 5276855.90800
RMSE_XY: 2.30000
IMAGE_SOURCE: BLACK AND WHITE FILM
SOURCE_IMAGE_ID: NAPP 9144 264
SOURCE_IMAGE_DATE: 1996 08 25
SOURCE_IMAGE_ID: NAPP 9144 265
SOURCE_IMAGE_DATE: 1996 08 25
SOURCE_IMAGE_ID: NAPP 9144 263
SOURCE_IMAGE_DATE: 1996 08 25
SOURCE_DEM_DATE: 1982 00 00
AGENCY: WESTERN MAPPING CENTER (WMC)
PRODUCER: UNDEFINED
PRODUCTION_SYSTEM: GIS/MAGIC
COMPRESSION: UNDEFINED
STANDARD_VERSION: 1996 12
METADATA_DATE: 2000 06 15
DATA_FILE_SIZE: 42715814
BYTE_COUNT: 5554
