FILENAME: O4710818.NWS.1083012.tif
QUADRANGLE_NAME: GRAND ISLAND
QUADRANT: NW
WEST_LONGITUDE: -108 52 30.00000
EAST_LONGITUDE: -108 48 45.00000
NORTH_LATITUDE: 47 45 0.00000
SOUTH_LATITUDE: 47 41 15.00000
PRODUCTION_DATE: 2000 6 8
RASTER_ORDER: LEFT_RIGHT/TOP_BOTTOM
BAND_ORGANIZATION: SINGLE FILE
BAND_CONTENT: BLACK&WHITE
BAND_CONTENT: UNDEFINED
BAND_CONTENT: UNDEFINED
BITS_PER_PIXEL: 8
SAMPLES_AND_LINES: 5537 7682
HORIZONTAL_DATUM: NAD83
HORIZONTAL_COORDINATE_SYSTEM: UTM
COORDINATE_ZONE: 12
HORIZONTAL_UNITS: METERS
HORIZONTAL_RESOLUTION: 1.00000
SECONDARY_HORIZONTAL_DATUM: NAD27
XY_ORIGIN: 658921.00000 5291132.00000
SECONDARY_XY_ORIGIN: 658979.78900 5290916.09200
NATION: US
NATION: "SCIENCE
STATE: MT
NW_QUAD_CORNER_XY: 659276.31200 5290701.18800
NE_QUAD_CORNER_XY: 663960.69700 5290831.74300
SE_QUAD_CORNERY_XY: 664156.98900 5283885.94400
SW_QUAD_CORNER_XY: 659466.99200 5283755.36200
SECONDARY_NW_QUAD_XY: 659281.29900 5290482.44200
SECONDARY_NE_QUAD_XY: 663965.83000 5290613.00100
SECONDARY_SE_QUAD_XY: 664162.12300 5283667.22100
SECONDARY_SW_QUAD_XY: 659471.97900 5283536.63500
RMSE_XY: 2.40000
IMAGE_SOURCE: BLACK AND WHITE FILM
SOURCE_IMAGE_ID: NAPP 9157 068
SOURCE_IMAGE_DATE: 1997 09 05
SOURCE_IMAGE_ID: NAPP 9147 123
SOURCE_IMAGE_DATE: 1996 08 24
SOURCE_IMAGE_ID: NAPP 9147 124
SOURCE_IMAGE_DATE: 1996 08 24
SOURCE_IMAGE_ID: NAPP 9157 067
SOURCE_IMAGE_DATE: 1997 09 05
SOURCE_IMAGE_ID: NAPP 9157 069
SOURCE_IMAGE_DATE: 1997 09 05
SOURCE_DEM_DATE: 2000 01 01
AGENCY: WESTERN MAPPING CENTER (WMC)
PRODUCER: UNDEFINED
PRODUCTION_SYSTEM: GIS/MAGIC
COMPRESSION: UNDEFINED
STANDARD_VERSION: 1996 12
METADATA_DATE: 2000 06 15
DATA_FILE_SIZE: 42540771
BYTE_COUNT: 5537
