FILENAME: O4710818.SES.1083013.tif
QUADRANGLE_NAME: GRAND ISLAND
QUADRANT: SE
WEST_LONGITUDE: -108 48 45.00000
EAST_LONGITUDE: -108 45 0.00000
NORTH_LATITUDE: 47 41 15.00000
SOUTH_LATITUDE: 47 37 30.00000
PRODUCTION_DATE: 2000 6 8
RASTER_ORDER: LEFT_RIGHT/TOP_BOTTOM
BAND_ORGANIZATION: SINGLE FILE
BAND_CONTENT: BLACK&WHITE
BAND_CONTENT: UNDEFINED
BAND_CONTENT: UNDEFINED
BITS_PER_PIXEL: 8
SAMPLES_AND_LINES: 5548 7686
HORIZONTAL_DATUM: NAD83
HORIZONTAL_COORDINATE_SYSTEM: UTM
COORDINATE_ZONE: 12
HORIZONTAL_UNITS: METERS
HORIZONTAL_RESOLUTION: 1.00000
SECONDARY_HORIZONTAL_DATUM: NAD27
XY_ORIGIN: 663802.00000 5284321.00000
SECONDARY_XY_ORIGIN: 663860.75000 5284105.11200
NATION: US
NATION: "SCIENCE
STATE: MT
NW_QUAD_CORNER_XY: 664156.98900 5283885.94400
NE_QUAD_CORNER_XY: 668846.96900 5284020.31500
SE_QUAD_CORNERY_XY: 669048.67200 5277074.60800
SW_QUAD_CORNER_XY: 664353.08500 5276940.21000
SECONDARY_NW_QUAD_XY: 664162.12300 5283667.22100
SECONDARY_NE_QUAD_XY: 668852.24800 5283801.59500
SECONDARY_SE_QUAD_XY: 669053.95100 5276855.90800
SECONDARY_SW_QUAD_XY: 664358.21800 5276721.50700
RMSE_XY: 1.30000
IMAGE_SOURCE: BLACK AND WHITE FILM
SOURCE_IMAGE_ID: NAPP 9157 154
SOURCE_IMAGE_DATE: 1997 09 05
SOURCE_IMAGE_ID: NAPP 9157 065
SOURCE_IMAGE_DATE: 1997 09 05
SOURCE_IMAGE_ID: NAPP 9157 067
SOURCE_IMAGE_DATE: 1997 09 05
SOURCE_IMAGE_ID: NAPP 9157 157
SOURCE_IMAGE_DATE: 1997 09 05
SOURCE_IMAGE_ID: NAPP 9157 156
SOURCE_IMAGE_DATE: 1997 09 05
SOURCE_DEM_DATE: 2000 01 01
AGENCY: WESTERN MAPPING CENTER (WMC)
PRODUCER: UNDEFINED
PRODUCTION_SYSTEM: GIS/MAGIC
COMPRESSION: UNDEFINED
STANDARD_VERSION: 1996 12
METADATA_DATE: 2000 06 15
DATA_FILE_SIZE: 42647476
BYTE_COUNT: 5548
