FILENAME: O4710817.NES.1082506.tif
QUADRANGLE_NAME: BAKER MONUMENT
QUADRANT: NE
WEST_LONGITUDE: -108 56 15.00000
EAST_LONGITUDE: -108 52 30.00000
NORTH_LATITUDE: 47 45 0.00000
SOUTH_LATITUDE: 47 41 15.00000
PRODUCTION_DATE: 2000 6 9
RASTER_ORDER: LEFT_RIGHT/TOP_BOTTOM
BAND_ORGANIZATION: SINGLE FILE
BAND_CONTENT: BLACK&WHITE
BAND_CONTENT: UNDEFINED
BAND_CONTENT: UNDEFINED
BITS_PER_PIXEL: 8
SAMPLES_AND_LINES: 5532 7679
HORIZONTAL_DATUM: NAD83
HORIZONTAL_COORDINATE_SYSTEM: UTM
COORDINATE_ZONE: 12
HORIZONTAL_UNITS: METERS
HORIZONTAL_RESOLUTION: 1.00000
SECONDARY_HORIZONTAL_DATUM: NAD27
XY_ORIGIN: 654236.00000 5291002.00000
SECONDARY_XY_ORIGIN: 654294.78200 5290786.17900
NATION: US
NATION: "SCIENCE
STATE: MT
NW_QUAD_CORNER_XY: 654591.91000 5290574.41900
NE_QUAD_CORNER_XY: 659276.31200 5290701.18800
SE_QUAD_CORNERY_XY: 659466.99200 5283755.36200
SW_QUAD_CORNER_XY: 654776.97700 5283628.56800
SECONDARY_NW_QUAD_XY: 654596.75000 5290355.66900
SECONDARY_NE_QUAD_XY: 659281.29900 5290482.44200
SECONDARY_SE_QUAD_XY: 659471.97900 5283536.63500
SECONDARY_SW_QUAD_XY: 654781.81700 5283409.83600
RMSE_XY: 1.90000
IMAGE_SOURCE: BLACK AND WHITE FILM
SOURCE_IMAGE_ID: NAPP 9147 123
SOURCE_IMAGE_DATE: 1996 08 24
SOURCE_IMAGE_ID: NAPP 9147 124
SOURCE_IMAGE_DATE: 1996 08 24
SOURCE_DEM_DATE: 1954 00 00
AGENCY: WESTERN MAPPING CENTER (WMC)
PRODUCER: UNDEFINED
PRODUCTION_SYSTEM: GIS/MAGIC
COMPRESSION: UNDEFINED
STANDARD_VERSION: 1996 12
METADATA_DATE: 2000 06 15
DATA_FILE_SIZE: 42485760
BYTE_COUNT: 5532
