FILENAME: O4710816.SES.1116507.tif
QUADRANGLE_NAME: BARBER COULEE
QUADRANT: SE
WEST_LONGITUDE: -108 3 45.00000
EAST_LONGITUDE: -108 0 0.00000
NORTH_LATITUDE: 47 48 45.00000
SOUTH_LATITUDE: 47 45 0.00000
PRODUCTION_DATE: 2000 10 30
RASTER_ORDER: LEFT_RIGHT/TOP_BOTTOM
BAND_ORGANIZATION: SINGLE FILE
BAND_CONTENT: BLACK&WHITE
BAND_CONTENT: UNDEFINED
BAND_CONTENT: UNDEFINED
BITS_PER_PIXEL: 8
SAMPLES_AND_LINES: 5601 7731
HORIZONTAL_DATUM: NAD83
HORIZONTAL_COORDINATE_SYSTEM: UTM
COORDINATE_ZONE: 12
HORIZONTAL_UNITS: METERS
HORIZONTAL_RESOLUTION: 1.00000
SECONDARY_HORIZONTAL_DATUM: NAD27
XY_ORIGIN: 719556.00000 5300120.00000
SECONDARY_XY_ORIGIN: 719613.56900 5299903.53500
NATION: US
NATION: "SCIENCE
STATE: MT
NW_QUAD_CORNER_XY: 719907.76100 5299639.38200
NE_QUAD_CORNER_XY: 724586.23700 5299819.15900
SE_QUAD_CORNERY_XY: 724855.80700 5292873.72700
SW_QUAD_CORNER_XY: 720171.70600 5292693.91100
SECONDARY_NW_QUAD_XY: 719914.65600 5299420.68100
SECONDARY_NE_QUAD_XY: 724593.27800 5299600.46400
SECONDARY_SE_QUAD_XY: 724862.84800 5292655.04900
SECONDARY_SW_QUAD_XY: 720178.60000 5292475.22800
RMSE_XY: 1.30000
IMAGE_SOURCE: BLACK AND WHITE FILM
SOURCE_IMAGE_ID: NAPP 9142 111
SOURCE_IMAGE_DATE: 1996 08 24
SOURCE_DEM_DATE: 1965 00 00
AGENCY: WESTERN MAPPING CENTER (WMC)
PRODUCER: UNDEFINED
PRODUCTION_SYSTEM: GIS/MAGIC
COMPRESSION: UNDEFINED
STANDARD_VERSION: 1996 12
METADATA_DATE: 2000 11 14
DATA_FILE_SIZE: 43306932
BYTE_COUNT: 5601
