FILENAME: O4710815.NES.1116401.tif
QUADRANGLE_NAME: DRY FORK RIDGE
QUADRANT: NE
WEST_LONGITUDE: -108 11 15.00000
EAST_LONGITUDE: -108 7 30.00000
NORTH_LATITUDE: 47 52 30.00000
SOUTH_LATITUDE: 47 48 45.00000
PRODUCTION_DATE: 2000 10 30
RASTER_ORDER: LEFT_RIGHT/TOP_BOTTOM
BAND_ORGANIZATION: SINGLE FILE
BAND_CONTENT: BLACK&WHITE
BAND_CONTENT: UNDEFINED
BAND_CONTENT: UNDEFINED
BITS_PER_PIXEL: 8
SAMPLES_AND_LINES: 5586 7722
HORIZONTAL_DATUM: NAD83
HORIZONTAL_COORDINATE_SYSTEM: UTM
COORDINATE_ZONE: 12
HORIZONTAL_UNITS: METERS
HORIZONTAL_RESOLUTION: 1.00000
SECONDARY_HORIZONTAL_DATUM: NAD27
XY_ORIGIN: 709945.00000 5306709.00000
SECONDARY_XY_ORIGIN: 710002.58600 5306492.39300
NATION: US
NATION: "SCIENCE
STATE: MT
NW_QUAD_CORNER_XY: 710297.78300 5306236.80000
NE_QUAD_CORNER_XY: 714970.68000 5306408.96000
SE_QUAD_CORNERY_XY: 715229.25900 5299463.39500
SW_QUAD_CORNER_XY: 710550.73200 5299291.19800
SECONDARY_NW_QUAD_XY: 710304.38400 5306018.07100
SECONDARY_NE_QUAD_XY: 714977.42900 5306190.23600
SECONDARY_SE_QUAD_XY: 715236.00700 5299244.68800
SECONDARY_SW_QUAD_XY: 710557.33400 5299072.48600
RMSE_XY: 0.80000
IMAGE_SOURCE: BLACK AND WHITE FILM
SOURCE_IMAGE_ID: NAPP 9143 097
SOURCE_IMAGE_DATE: 1996 08 24
SOURCE_DEM_DATE: 1965 00 00
AGENCY: WESTERN MAPPING CENTER (WMC)
PRODUCER: UNDEFINED
PRODUCTION_SYSTEM: GIS/MAGIC
COMPRESSION: UNDEFINED
STANDARD_VERSION: 1996 12
METADATA_DATE: 2000 11 14
DATA_FILE_SIZE: 43140678
BYTE_COUNT: 5586
