FILENAME: O4710815.NWS.1116402.tif
QUADRANGLE_NAME: DRY FORK RIDGE
QUADRANT: NW
WEST_LONGITUDE: -108 15 0.00000
EAST_LONGITUDE: -108 11 15.00000
NORTH_LATITUDE: 47 52 30.00000
SOUTH_LATITUDE: 47 48 45.00000
PRODUCTION_DATE: 2000 10 30
RASTER_ORDER: LEFT_RIGHT/TOP_BOTTOM
BAND_ORGANIZATION: SINGLE FILE
BAND_CONTENT: BLACK&WHITE
BAND_CONTENT: UNDEFINED
BAND_CONTENT: UNDEFINED
BITS_PER_PIXEL: 8
SAMPLES_AND_LINES: 5580 7719
HORIZONTAL_DATUM: NAD83
HORIZONTAL_COORDINATE_SYSTEM: UTM
COORDINATE_ZONE: 12
HORIZONTAL_UNITS: METERS
HORIZONTAL_RESOLUTION: 1.00000
SECONDARY_HORIZONTAL_DATUM: NAD27
XY_ORIGIN: 705272.00000 5306537.00000
SECONDARY_XY_ORIGIN: 705329.58500 5306320.32400
NATION: US
NATION: "SCIENCE
STATE: MT
NW_QUAD_CORNER_XY: 705624.86000 5306068.42900
NE_QUAD_CORNER_XY: 710297.78300 5306236.80000
SE_QUAD_CORNERY_XY: 710550.73200 5299291.19800
SW_QUAD_CORNER_XY: 705872.18100 5299122.79000
SECONDARY_NW_QUAD_XY: 705631.31500 5305849.69500
SECONDARY_NE_QUAD_XY: 710304.38400 5306018.07100
SECONDARY_SE_QUAD_XY: 710557.33400 5299072.48600
SECONDARY_SW_QUAD_XY: 705878.63600 5298904.07300
RMSE_XY: 1.00000
IMAGE_SOURCE: BLACK AND WHITE FILM
SOURCE_IMAGE_ID: NAPP 9143 174
SOURCE_IMAGE_DATE: 1996 08 24
SOURCE_DEM_DATE: 1965 00 00
AGENCY: WESTERN MAPPING CENTER (WMC)
PRODUCER: UNDEFINED
PRODUCTION_SYSTEM: GIS/MAGIC
COMPRESSION: UNDEFINED
STANDARD_VERSION: 1996 12
METADATA_DATE: 2000 11 14
DATA_FILE_SIZE: 43077600
BYTE_COUNT: 5580
