FILENAME: O4710815.SWS.1116404.tif
QUADRANGLE_NAME: DRY FORK RIDGE
QUADRANT: SW
WEST_LONGITUDE: -108 15 0.00000
EAST_LONGITUDE: -108 11 15.00000
NORTH_LATITUDE: 47 48 45.00000
SOUTH_LATITUDE: 47 45 0.00000
PRODUCTION_DATE: 2000 10 30
RASTER_ORDER: LEFT_RIGHT/TOP_BOTTOM
BAND_ORGANIZATION: SINGLE FILE
BAND_CONTENT: BLACK&WHITE
BAND_CONTENT: UNDEFINED
BAND_CONTENT: UNDEFINED
BITS_PER_PIXEL: 8
SAMPLES_AND_LINES: 5585 7719
HORIZONTAL_DATUM: NAD83
HORIZONTAL_COORDINATE_SYSTEM: UTM
COORDINATE_ZONE: 12
HORIZONTAL_UNITS: METERS
HORIZONTAL_RESOLUTION: 1.00000
SECONDARY_HORIZONTAL_DATUM: NAD27
XY_ORIGIN: 705520.00000 5299592.00000
SECONDARY_XY_ORIGIN: 705577.52900 5299375.31600
NATION: US
NATION: "SCIENCE
STATE: MT
NW_QUAD_CORNER_XY: 705872.18100 5299122.79000
NE_QUAD_CORNER_XY: 710550.73200 5299291.19800
SE_QUAD_CORNERY_XY: 710803.43000 5292345.65300
SW_QUAD_CORNER_XY: 706119.25600 5292177.21000
SECONDARY_NW_QUAD_XY: 705878.63600 5298904.07300
SECONDARY_NE_QUAD_XY: 710557.33400 5299072.48600
SECONDARY_SE_QUAD_XY: 710810.03100 5292126.95900
SECONDARY_SW_QUAD_XY: 706125.71000 5291958.51100
RMSE_XY: 1.00000
IMAGE_SOURCE: BLACK AND WHITE FILM
SOURCE_IMAGE_ID: NAPP 9143 176
SOURCE_IMAGE_DATE: 1996 08 24
SOURCE_DEM_DATE: 1965 00 00
AGENCY: WESTERN MAPPING CENTER (WMC)
PRODUCER: UNDEFINED
PRODUCTION_SYSTEM: GIS/MAGIC
COMPRESSION: UNDEFINED
STANDARD_VERSION: 1996 12
METADATA_DATE: 2000 11 14
DATA_FILE_SIZE: 43116200
BYTE_COUNT: 5585
