FILENAME: O4710814.NES.1114590.tif
QUADRANGLE_NAME: BISON BONE RESERVOIR
QUADRANT: NE
WEST_LONGITUDE: -108 18 45.00000
EAST_LONGITUDE: -108 15 0.00000
NORTH_LATITUDE: 47 52 30.00000
SOUTH_LATITUDE: 47 48 45.00000
PRODUCTION_DATE: 2000 10 30
RASTER_ORDER: LEFT_RIGHT/TOP_BOTTOM
BAND_ORGANIZATION: SINGLE FILE
BAND_CONTENT: BLACK&WHITE
BAND_CONTENT: UNDEFINED
BAND_CONTENT: UNDEFINED
BITS_PER_PIXEL: 8
SAMPLES_AND_LINES: 5575 7715
HORIZONTAL_DATUM: NAD83
HORIZONTAL_COORDINATE_SYSTEM: UTM
COORDINATE_ZONE: 12
HORIZONTAL_UNITS: METERS
HORIZONTAL_RESOLUTION: 1.00000
SECONDARY_HORIZONTAL_DATUM: NAD27
XY_ORIGIN: 700599.00000 5306369.00000
SECONDARY_XY_ORIGIN: 700656.77700 5306152.33600
NATION: US
NATION: "SCIENCE
STATE: MT
NW_QUAD_CORNER_XY: 700951.91300 5305903.84600
NE_QUAD_CORNER_XY: 705624.86000 5306068.42900
SE_QUAD_CORNERY_XY: 705872.18100 5299122.79000
SW_QUAD_CORNER_XY: 701193.60600 5298958.17200
SECONDARY_NW_QUAD_XY: 700958.22100 5305685.10700
SECONDARY_NE_QUAD_XY: 705631.31500 5305849.69500
SECONDARY_SE_QUAD_XY: 705878.63600 5298904.07300
SECONDARY_SW_QUAD_XY: 701199.91400 5298739.45000
RMSE_XY: 0.90000
IMAGE_SOURCE: BLACK AND WHITE FILM
SOURCE_IMAGE_ID: NAPP 9143 217
SOURCE_IMAGE_DATE: 1996 08 24
SOURCE_DEM_DATE: 1970 00 00
AGENCY: WESTERN MAPPING CENTER (WMC)
PRODUCER: UNDEFINED
PRODUCTION_SYSTEM: GIS/MAGIC
COMPRESSION: UNDEFINED
STANDARD_VERSION: 1996 12
METADATA_DATE: 2000 11 14
DATA_FILE_SIZE: 43016700
BYTE_COUNT: 5575
