FILENAME: O4710814.SES.1114592.tif
QUADRANGLE_NAME: BISON BONE RESERVOIR
QUADRANT: SE
WEST_LONGITUDE: -108 18 45.00000
EAST_LONGITUDE: -108 15 0.00000
NORTH_LATITUDE: 47 48 45.00000
SOUTH_LATITUDE: 47 45 0.00000
PRODUCTION_DATE: 2000 10 30
RASTER_ORDER: LEFT_RIGHT/TOP_BOTTOM
BAND_ORGANIZATION: SINGLE FILE
BAND_CONTENT: BLACK&WHITE
BAND_CONTENT: UNDEFINED
BAND_CONTENT: UNDEFINED
BITS_PER_PIXEL: 8
SAMPLES_AND_LINES: 5580 7715
HORIZONTAL_DATUM: NAD83
HORIZONTAL_COORDINATE_SYSTEM: UTM
COORDINATE_ZONE: 12
HORIZONTAL_UNITS: METERS
HORIZONTAL_RESOLUTION: 1.00000
SECONDARY_HORIZONTAL_DATUM: NAD27
XY_ORIGIN: 700841.00000 5299423.00000
SECONDARY_XY_ORIGIN: 700898.74200 5299206.33200
NATION: US
NATION: "SCIENCE
STATE: MT
NW_QUAD_CORNER_XY: 701193.60600 5298958.17200
NE_QUAD_CORNER_XY: 705872.18100 5299122.79000
SE_QUAD_CORNERY_XY: 706119.25600 5292177.21000
SW_QUAD_CORNER_XY: 701435.05800 5292012.55700
SECONDARY_NW_QUAD_XY: 701199.91400 5298739.45000
SECONDARY_NE_QUAD_XY: 705878.63600 5298904.07300
SECONDARY_SE_QUAD_XY: 706125.71000 5291958.51100
SECONDARY_SW_QUAD_XY: 701441.36500 5291793.85300
RMSE_XY: 1.00000
IMAGE_SOURCE: BLACK AND WHITE FILM
SOURCE_IMAGE_ID: NAPP 9143 215
SOURCE_IMAGE_DATE: 1996 08 24
SOURCE_DEM_DATE: 1970 00 00
AGENCY: WESTERN MAPPING CENTER (WMC)
PRODUCER: UNDEFINED
PRODUCTION_SYSTEM: GIS/MAGIC
COMPRESSION: UNDEFINED
STANDARD_VERSION: 1996 12
METADATA_DATE: 2000 11 14
DATA_FILE_SIZE: 43055280
BYTE_COUNT: 5580
