FILENAME: O4710813.NWS.1114543.tif
QUADRANGLE_NAME: ROBINSON SCHOOL
QUADRANT: NW
WEST_LONGITUDE: -108 30 0.00000
EAST_LONGITUDE: -108 26 15.00000
NORTH_LATITUDE: 47 52 30.00000
SOUTH_LATITUDE: 47 48 45.00000
PRODUCTION_DATE: 2000 11 9
RASTER_ORDER: LEFT_RIGHT/TOP_BOTTOM
BAND_ORGANIZATION: SINGLE FILE
BAND_CONTENT: BLACK&WHITE
BAND_CONTENT: UNDEFINED
BAND_CONTENT: UNDEFINED
BITS_PER_PIXEL: 8
SAMPLES_AND_LINES: 5559 7705
HORIZONTAL_DATUM: NAD83
HORIZONTAL_COORDINATE_SYSTEM: UTM
COORDINATE_ZONE: 12
HORIZONTAL_UNITS: METERS
HORIZONTAL_RESOLUTION: 1.00000
SECONDARY_HORIZONTAL_DATUM: NAD27
XY_ORIGIN: 686579.00000 5305887.00000
SECONDARY_XY_ORIGIN: 686637.29100 5305670.35000
NATION: US
NATION: "SCIENCE
STATE: MT
NW_QUAD_CORNER_XY: 686932.93000 5305432.82700
NE_QUAD_CORNER_XY: 691605.94700 5305586.04600
SE_QUAD_CORNERY_XY: 691836.38600 5298640.30300
SW_QUAD_CORNER_XY: 687157.74200 5298487.05100
SECONDARY_NW_QUAD_XY: 686938.79800 5305214.07300
SECONDARY_NE_QUAD_XY: 691611.96200 5305367.29600
SECONDARY_SE_QUAD_XY: 691842.40000 5298421.57000
SECONDARY_SW_QUAD_XY: 687163.61000 5298268.31400
RMSE_XY: 1.60000
IMAGE_SOURCE: BLACK AND WHITE FILM
SOURCE_IMAGE_ID: NAPP 9144 142
SOURCE_IMAGE_DATE: 1996 08 25
SOURCE_DEM_DATE: 1970 00 00
AGENCY: WESTERN MAPPING CENTER (WMC)
PRODUCER: UNDEFINED
PRODUCTION_SYSTEM: GIS/MAGIC
COMPRESSION: UNDEFINED
STANDARD_VERSION: 1996 12
METADATA_DATE: 2000 11 14
DATA_FILE_SIZE: 42837654
BYTE_COUNT: 5559
