FILENAME: O4710813.SES.1114544.tif
QUADRANGLE_NAME: ROBINSON SCHOOL
QUADRANT: SE
WEST_LONGITUDE: -108 26 15.00000
EAST_LONGITUDE: -108 22 30.00000
NORTH_LATITUDE: 47 48 45.00000
SOUTH_LATITUDE: 47 45 0.00000
PRODUCTION_DATE: 2000 11 9
RASTER_ORDER: LEFT_RIGHT/TOP_BOTTOM
BAND_ORGANIZATION: SINGLE FILE
BAND_CONTENT: BLACK&WHITE
BAND_CONTENT: UNDEFINED
BAND_CONTENT: UNDEFINED
BITS_PER_PIXEL: 8
SAMPLES_AND_LINES: 5569 7708
HORIZONTAL_DATUM: NAD83
HORIZONTAL_COORDINATE_SYSTEM: UTM
COORDINATE_ZONE: 12
HORIZONTAL_UNITS: METERS
HORIZONTAL_RESOLUTION: 1.00000
SECONDARY_HORIZONTAL_DATUM: NAD27
XY_ORIGIN: 691483.00000 5299098.00000
SECONDARY_XY_ORIGIN: 691541.12300 5298881.34900
NATION: US
NATION: "SCIENCE
STATE: MT
NW_QUAD_CORNER_XY: 691836.38600 5298640.30300
NE_QUAD_CORNER_XY: 696515.00700 5298797.34300
SE_QUAD_CORNERY_XY: 696750.83800 5291851.69400
SW_QUAD_CORNER_XY: 692066.59400 5291694.62100
SECONDARY_NW_QUAD_XY: 691842.40000 5298421.57000
SECONDARY_NE_QUAD_XY: 696521.16800 5298578.61600
SECONDARY_SE_QUAD_XY: 696756.99800 5291632.98500
SECONDARY_SW_QUAD_XY: 692072.60800 5291475.90600
RMSE_XY: 1.10000
IMAGE_SOURCE: BLACK AND WHITE FILM
SOURCE_IMAGE_ID: NAPP 9144 027
SOURCE_IMAGE_DATE: 1996 08 25
SOURCE_DEM_DATE: 1970 00 00
AGENCY: WESTERN MAPPING CENTER (WMC)
PRODUCER: UNDEFINED
PRODUCTION_SYSTEM: GIS/MAGIC
COMPRESSION: UNDEFINED
STANDARD_VERSION: 1996 12
METADATA_DATE: 2000 11 14
DATA_FILE_SIZE: 42931421
BYTE_COUNT: 5569
