FILENAME: O4710813.SWS.1114545.tif
QUADRANGLE_NAME: ROBINSON SCHOOL
QUADRANT: SW
WEST_LONGITUDE: -108 30 0.00000
EAST_LONGITUDE: -108 26 15.00000
NORTH_LATITUDE: 47 48 45.00000
SOUTH_LATITUDE: 47 45 0.00000
PRODUCTION_DATE: 2000 11 9
RASTER_ORDER: LEFT_RIGHT/TOP_BOTTOM
BAND_ORGANIZATION: SINGLE FILE
BAND_CONTENT: BLACK&WHITE
BAND_CONTENT: UNDEFINED
BAND_CONTENT: UNDEFINED
BITS_PER_PIXEL: 8
SAMPLES_AND_LINES: 5564 7704
HORIZONTAL_DATUM: NAD83
HORIZONTAL_COORDINATE_SYSTEM: UTM
COORDINATE_ZONE: 12
HORIZONTAL_UNITS: METERS
HORIZONTAL_RESOLUTION: 1.00000
SECONDARY_HORIZONTAL_DATUM: NAD27
XY_ORIGIN: 686804.00000 5298941.00000
SECONDARY_XY_ORIGIN: 686862.31400 5298724.35600
NATION: US
NATION: "SCIENCE
STATE: MT
NW_QUAD_CORNER_XY: 687157.74200 5298487.05100
NE_QUAD_CORNER_XY: 691836.38600 5298640.30300
SE_QUAD_CORNERY_XY: 692066.59400 5291694.62100
SW_QUAD_CORNER_XY: 687382.33000 5291541.33700
SECONDARY_NW_QUAD_XY: 687163.61000 5298268.31400
SECONDARY_NE_QUAD_XY: 691842.40000 5298421.57000
SECONDARY_SE_QUAD_XY: 692072.60800 5291475.90600
SECONDARY_SW_QUAD_XY: 687388.19700 5291322.61700
RMSE_XY: 1.20000
IMAGE_SOURCE: BLACK AND WHITE FILM
SOURCE_IMAGE_ID: NAPP 9144 144
SOURCE_IMAGE_DATE: 1996 08 25
SOURCE_DEM_DATE: 1970 00 00
AGENCY: WESTERN MAPPING CENTER (WMC)
PRODUCER: UNDEFINED
PRODUCTION_SYSTEM: GIS/MAGIC
COMPRESSION: UNDEFINED
STANDARD_VERSION: 1996 12
METADATA_DATE: 2000 11 14
DATA_FILE_SIZE: 42870620
BYTE_COUNT: 5564
