FILENAME: O4710812.NES.1112810.tif
QUADRANGLE_NAME: HAYS SE
QUADRANT: NE
WEST_LONGITUDE: -108 33 45.00000
EAST_LONGITUDE: -108 30 0.00000
NORTH_LATITUDE: 47 52 30.00000
SOUTH_LATITUDE: 47 48 45.00000
PRODUCTION_DATE: 2000 11 9
RASTER_ORDER: LEFT_RIGHT/TOP_BOTTOM
BAND_ORGANIZATION: SINGLE FILE
BAND_CONTENT: BLACK&WHITE
BAND_CONTENT: UNDEFINED
BAND_CONTENT: UNDEFINED
BITS_PER_PIXEL: 8
SAMPLES_AND_LINES: 5553 7700
HORIZONTAL_DATUM: NAD83
HORIZONTAL_COORDINATE_SYSTEM: UTM
COORDINATE_ZONE: 12
HORIZONTAL_UNITS: METERS
HORIZONTAL_RESOLUTION: 1.00000
SECONDARY_HORIZONTAL_DATUM: NAD27
XY_ORIGIN: 681906.00000 5305733.00000
SECONDARY_XY_ORIGIN: 681964.38900 5305516.46900
NATION: US
NATION: "SCIENCE
STATE: MT
NW_QUAD_CORNER_XY: 682259.89100 5305283.39500
NE_QUAD_CORNER_XY: 686932.93000 5305432.82700
SE_QUAD_CORNERY_XY: 687157.74200 5298487.05100
SW_QUAD_CORNER_XY: 682479.07600 5298337.58700
SECONDARY_NW_QUAD_XY: 682265.61200 5305064.63600
SECONDARY_NE_QUAD_XY: 686938.79800 5305214.07300
SECONDARY_SE_QUAD_XY: 687163.61000 5298268.31400
SECONDARY_SW_QUAD_XY: 682484.79700 5298118.84500
RMSE_XY: 1.40000
IMAGE_SOURCE: BLACK AND WHITE FILM
SOURCE_IMAGE_ID: NAPP 9138 097
SOURCE_IMAGE_DATE: 1996 08 23
SOURCE_IMAGE_ID: NAPP 9138 096
SOURCE_IMAGE_DATE: 1996 08 23
SOURCE_DEM_DATE: 1970 00 00
AGENCY: WESTERN MAPPING CENTER (WMC)
PRODUCER: UNDEFINED
PRODUCTION_SYSTEM: GIS/MAGIC
COMPRESSION: UNDEFINED
STANDARD_VERSION: 1996 12
METADATA_DATE: 2000 11 13
DATA_FILE_SIZE: 42763653
BYTE_COUNT: 5553
