FILENAME: O4710811.SES.1080693.tif
QUADRANGLE_NAME: D Y JUNCTION
QUADRANT: SE
WEST_LONGITUDE: -108 41 15.00000
EAST_LONGITUDE: -108 37 30.00000
NORTH_LATITUDE: 47 48 45.00000
SOUTH_LATITUDE: 47 45 0.00000
PRODUCTION_DATE: 2000 6 7
RASTER_ORDER: LEFT_RIGHT/TOP_BOTTOM
BAND_ORGANIZATION: SINGLE FILE
BAND_CONTENT: BLACK&WHITE
BAND_CONTENT: UNDEFINED
BAND_CONTENT: UNDEFINED
BITS_PER_PIXEL: 8
SAMPLES_AND_LINES: 5548 7693
HORIZONTAL_DATUM: NAD83
HORIZONTAL_COORDINATE_SYSTEM: UTM
COORDINATE_ZONE: 12
HORIZONTAL_UNITS: METERS
HORIZONTAL_RESOLUTION: 1.00000
SECONDARY_HORIZONTAL_DATUM: NAD27
XY_ORIGIN: 672767.00000 5298492.00000
SECONDARY_XY_ORIGIN: 672825.64300 5298275.73800
NATION: US
NATION: "SCIENCE
STATE: MT
NW_QUAD_CORNER_XY: 673121.68200 5298050.02300
NE_QUAD_CORNER_XY: 677800.39000 5298191.91100
SE_QUAD_CORNERY_XY: 678013.73700 5291246.13500
SW_QUAD_CORNER_XY: 673329.40900 5291104.21600
SECONDARY_NW_QUAD_XY: 673127.11000 5297831.27200
SECONDARY_NE_QUAD_XY: 677805.96400 5297973.16500
SECONDARY_SE_QUAD_XY: 678019.31000 5291027.40600
SECONDARY_SW_QUAD_XY: 673334.83600 5290885.48300
RMSE_XY: 1.30000
IMAGE_SOURCE: BLACK AND WHITE FILM
SOURCE_IMAGE_ID: NAPP 9144 179
SOURCE_IMAGE_DATE: 1996 08 25
SOURCE_IMAGE_ID: NAPP 9144 260
SOURCE_IMAGE_DATE: 1996 08 25
SOURCE_IMAGE_ID: NAPP 9144 178
SOURCE_IMAGE_DATE: 1996 08 25
SOURCE_IMAGE_ID: NAPP 9144 180
SOURCE_IMAGE_DATE: 1996 08 25
SOURCE_DEM_DATE: 1970 00 00
AGENCY: WESTERN MAPPING CENTER (WMC)
PRODUCER: UNDEFINED
PRODUCTION_SYSTEM: GIS/MAGIC
COMPRESSION: UNDEFINED
STANDARD_VERSION: 1996 12
METADATA_DATE: 2000 06 14
DATA_FILE_SIZE: 42686312
BYTE_COUNT: 5548
