FILENAME: O4710811.SWS.1080694.tif
QUADRANGLE_NAME: D Y JUNCTION
QUADRANT: SW
WEST_LONGITUDE: -108 45 0.00000
EAST_LONGITUDE: -108 41 15.00000
NORTH_LATITUDE: 47 48 45.00000
SOUTH_LATITUDE: 47 45 0.00000
PRODUCTION_DATE: 2000 6 7
RASTER_ORDER: LEFT_RIGHT/TOP_BOTTOM
BAND_ORGANIZATION: SINGLE FILE
BAND_CONTENT: BLACK&WHITE
BAND_CONTENT: UNDEFINED
BAND_CONTENT: UNDEFINED
BITS_PER_PIXEL: 8
SAMPLES_AND_LINES: 5543 7690
HORIZONTAL_DATUM: NAD83
HORIZONTAL_COORDINATE_SYSTEM: UTM
COORDINATE_ZONE: 12
HORIZONTAL_UNITS: METERS
HORIZONTAL_RESOLUTION: 1.00000
SECONDARY_HORIZONTAL_DATUM: NAD27
XY_ORIGIN: 668088.00000 5298351.00000
SECONDARY_XY_ORIGIN: 668146.75600 5298134.86100
NATION: US
NATION: "SCIENCE
STATE: MT
NW_QUAD_CORNER_XY: 668442.95500 5297911.92100
NE_QUAD_CORNER_XY: 673121.68200 5298050.02300
SE_QUAD_CORNERY_XY: 673329.40900 5291104.21600
SW_QUAD_CORNER_XY: 668645.06300 5290966.08600
SECONDARY_NW_QUAD_XY: 668448.23600 5297693.16600
SECONDARY_NE_QUAD_XY: 673127.11000 5297831.27200
SECONDARY_SE_QUAD_XY: 673334.83600 5290885.48300
SECONDARY_SW_QUAD_XY: 668650.34300 5290747.34800
RMSE_XY: 1.50000
IMAGE_SOURCE: BLACK AND WHITE FILM
SOURCE_IMAGE_ID: NAPP 9144 260
SOURCE_IMAGE_DATE: 1996 08 25
SOURCE_IMAGE_ID: NAPP 9157 152
SOURCE_IMAGE_DATE: 1997 09 05
SOURCE_IMAGE_ID: NAPP 9144 261
SOURCE_IMAGE_DATE: 1996 08 25
SOURCE_IMAGE_ID: NAPP 9144 259
SOURCE_IMAGE_DATE: 1996 08 25
SOURCE_IMAGE_ID: NAPP 9144 179
SOURCE_IMAGE_DATE: 1996 08 25
SOURCE_DEM_DATE: 1970 00 00
AGENCY: WESTERN MAPPING CENTER (WMC)
PRODUCER: UNDEFINED
PRODUCTION_SYSTEM: GIS/MAGIC
COMPRESSION: UNDEFINED
STANDARD_VERSION: 1996 12
METADATA_DATE: 2000 06 14
DATA_FILE_SIZE: 42631213
BYTE_COUNT: 5543
