FILENAME: O4710810.NES.1083007.tif
QUADRANGLE_NAME: SHETLAND DIVIDE
QUADRANT: NE
WEST_LONGITUDE: -108 48 45.00000
EAST_LONGITUDE: -108 45 0.00000
NORTH_LATITUDE: 47 52 30.00000
SOUTH_LATITUDE: 47 48 45.00000
PRODUCTION_DATE: 2000 6 9
RASTER_ORDER: LEFT_RIGHT/TOP_BOTTOM
BAND_ORGANIZATION: SINGLE FILE
BAND_CONTENT: BLACK&WHITE
BAND_CONTENT: UNDEFINED
BAND_CONTENT: UNDEFINED
BITS_PER_PIXEL: 8
SAMPLES_AND_LINES: 5532 7686
HORIZONTAL_DATUM: NAD83
HORIZONTAL_COORDINATE_SYSTEM: UTM
COORDINATE_ZONE: 12
HORIZONTAL_UNITS: METERS
HORIZONTAL_RESOLUTION: 1.00000
SECONDARY_HORIZONTAL_DATUM: NAD27
XY_ORIGIN: 663212.00000 5305158.00000
SECONDARY_XY_ORIGIN: 663270.70400 5304941.86500
NATION: US
NATION: "SCIENCE
STATE: MT
NW_QUAD_CORNER_XY: 663567.52300 5304723.53500
NE_QUAD_CORNER_XY: 668240.64500 5304857.82100
SE_QUAD_CORNERY_XY: 668442.95500 5297911.92100
SW_QUAD_CORNER_XY: 663764.20800 5297777.60700
SECONDARY_NW_QUAD_XY: 663572.65700 5304504.75900
SECONDARY_NE_QUAD_XY: 668245.92600 5304639.04900
SECONDARY_SE_QUAD_XY: 668448.23600 5297693.16600
SECONDARY_SW_QUAD_XY: 663769.34200 5297558.84700
RMSE_XY: 1.70000
IMAGE_SOURCE: BLACK AND WHITE FILM
SOURCE_IMAGE_ID: NAPP 9157 149
SOURCE_IMAGE_DATE: 1997 09 05
SOURCE_IMAGE_ID: NAPP 9157 150
SOURCE_IMAGE_DATE: 1997 09 05
SOURCE_IMAGE_ID: NAPP 9157 148
SOURCE_IMAGE_DATE: 1997 09 05
SOURCE_IMAGE_ID: NAPP 9144 257
SOURCE_IMAGE_DATE: 1996 08 25
SOURCE_DEM_DATE: 1971 00 00
AGENCY: WESTERN MAPPING CENTER (WMC)
PRODUCER: UNDEFINED
PRODUCTION_SYSTEM: GIS/MAGIC
COMPRESSION: UNDEFINED
STANDARD_VERSION: 1996 12
METADATA_DATE: 2000 06 15
DATA_FILE_SIZE: 42524484
BYTE_COUNT: 5532
