FILENAME: O4710810.NWS.1083008.tif
QUADRANGLE_NAME: SHETLAND DIVIDE
QUADRANT: NW
WEST_LONGITUDE: -108 52 30.00000
EAST_LONGITUDE: -108 48 45.00000
NORTH_LATITUDE: 47 52 30.00000
SOUTH_LATITUDE: 47 48 45.00000
PRODUCTION_DATE: 2000 6 9
RASTER_ORDER: LEFT_RIGHT/TOP_BOTTOM
BAND_ORGANIZATION: SINGLE FILE
BAND_CONTENT: BLACK&WHITE
BAND_CONTENT: UNDEFINED
BAND_CONTENT: UNDEFINED
BITS_PER_PIXEL: 8
SAMPLES_AND_LINES: 5527 7682
HORIZONTAL_DATUM: NAD83
HORIZONTAL_COORDINATE_SYSTEM: UTM
COORDINATE_ZONE: 12
HORIZONTAL_UNITS: METERS
HORIZONTAL_RESOLUTION: 1.00000
SECONDARY_HORIZONTAL_DATUM: NAD27
XY_ORIGIN: 658539.00000 5305024.00000
SECONDARY_XY_ORIGIN: 658597.71000 5304807.94300
NATION: US
NATION: "SCIENCE
STATE: MT
NW_QUAD_CORNER_XY: 658894.38100 5304593.03600
NE_QUAD_CORNER_XY: 663567.52300 5304723.53500
SE_QUAD_CORNERY_XY: 663764.20800 5297777.60700
SW_QUAD_CORNER_XY: 659085.44200 5297647.07900
SECONDARY_NW_QUAD_XY: 658899.36800 5304374.25500
SECONDARY_NE_QUAD_XY: 663572.65700 5304504.75900
SECONDARY_SE_QUAD_XY: 663769.34200 5297558.84700
SECONDARY_SW_QUAD_XY: 659090.42900 5297428.31500
RMSE_XY: 2.10000
IMAGE_SOURCE: BLACK AND WHITE FILM
SOURCE_IMAGE_ID: NAPP 9157 072
SOURCE_IMAGE_DATE: 1997 09 05
SOURCE_IMAGE_ID: NAPP 9157 071
SOURCE_IMAGE_DATE: 1997 09 05
SOURCE_IMAGE_ID: NAPP 9157 073
SOURCE_IMAGE_DATE: 1997 09 05
SOURCE_DEM_DATE: 1971 00 00
AGENCY: WESTERN MAPPING CENTER (WMC)
PRODUCER: UNDEFINED
PRODUCTION_SYSTEM: GIS/MAGIC
COMPRESSION: UNDEFINED
STANDARD_VERSION: 1996 12
METADATA_DATE: 2000 06 15
DATA_FILE_SIZE: 42463941
BYTE_COUNT: 5527
