FILENAME: O4710810.SWS.1083010.tif
QUADRANGLE_NAME: SHETLAND DIVIDE
QUADRANT: SW
WEST_LONGITUDE: -108 52 30.00000
EAST_LONGITUDE: -108 48 45.00000
NORTH_LATITUDE: 47 48 45.00000
SOUTH_LATITUDE: 47 45 0.00000
PRODUCTION_DATE: 2000 6 9
RASTER_ORDER: LEFT_RIGHT/TOP_BOTTOM
BAND_ORGANIZATION: SINGLE FILE
BAND_CONTENT: BLACK&WHITE
BAND_CONTENT: UNDEFINED
BAND_CONTENT: UNDEFINED
BITS_PER_PIXEL: 8
SAMPLES_AND_LINES: 5532 7682
HORIZONTAL_DATUM: NAD83
HORIZONTAL_COORDINATE_SYSTEM: UTM
COORDINATE_ZONE: 12
HORIZONTAL_UNITS: METERS
HORIZONTAL_RESOLUTION: 1.00000
SECONDARY_HORIZONTAL_DATUM: NAD27
XY_ORIGIN: 658730.00000 5298078.00000
SECONDARY_XY_ORIGIN: 658788.74500 5297862.01900
NATION: US
NATION: "SCIENCE
STATE: MT
NW_QUAD_CORNER_XY: 659085.44200 5297647.07900
NE_QUAD_CORNER_XY: 663764.20800 5297777.60700
SE_QUAD_CORNERY_XY: 663960.69700 5290831.74300
SW_QUAD_CORNER_XY: 659276.31200 5290701.18800
SECONDARY_NW_QUAD_XY: 659090.42900 5297428.31500
SECONDARY_NE_QUAD_XY: 663769.34200 5297558.84700
SECONDARY_SE_QUAD_XY: 663965.83000 5290613.00100
SECONDARY_SW_QUAD_XY: 659281.29900 5290482.44200
RMSE_XY: 1.70000
IMAGE_SOURCE: BLACK AND WHITE FILM
SOURCE_IMAGE_ID: NAPP 9157 070
SOURCE_IMAGE_DATE: 1997 09 05
SOURCE_IMAGE_ID: NAPP 9147 124
SOURCE_IMAGE_DATE: 1996 08 24
SOURCE_IMAGE_ID: NAPP 9157 069
SOURCE_IMAGE_DATE: 1997 09 05
SOURCE_IMAGE_ID: NAPP 9157 071
SOURCE_IMAGE_DATE: 1997 09 05
SOURCE_DEM_DATE: 1971 00 00
AGENCY: WESTERN MAPPING CENTER (WMC)
PRODUCER: UNDEFINED
PRODUCTION_SYSTEM: GIS/MAGIC
COMPRESSION: UNDEFINED
STANDARD_VERSION: 1996 12
METADATA_DATE: 2000 06 15
DATA_FILE_SIZE: 42502356
BYTE_COUNT: 5532
