FILENAME: O4710809.NWS.1082500.tif
QUADRANGLE_NAME: COW ISLAND
QUADRANT: NW
WEST_LONGITUDE: -109 0 0.00000
EAST_LONGITUDE: -108 56 15.00000
NORTH_LATITUDE: 47 52 30.00000
SOUTH_LATITUDE: 47 48 45.00000
PRODUCTION_DATE: 2000 6 12
RASTER_ORDER: LEFT_RIGHT/TOP_BOTTOM
BAND_ORGANIZATION: SINGLE FILE
BAND_CONTENT: BLACK&WHITE
BAND_CONTENT: UNDEFINED
BAND_CONTENT: UNDEFINED
BITS_PER_PIXEL: 8
SAMPLES_AND_LINES: 5515 7675
HORIZONTAL_DATUM: NAD83
HORIZONTAL_COORDINATE_SYSTEM: UTM
COORDINATE_ZONE: 12
HORIZONTAL_UNITS: METERS
HORIZONTAL_RESOLUTION: 1.00000
SECONDARY_HORIZONTAL_DATUM: NAD27
XY_ORIGIN: 649193.00000 5304767.00000
SECONDARY_XY_ORIGIN: 649251.72200 5304551.09700
NATION: US
NATION: "SCIENCE
STATE: MT
NW_QUAD_CORNER_XY: 649548.04100 5304343.39200
NE_QUAD_CORNER_XY: 654221.22000 5304466.32100
SE_QUAD_CORNERY_XY: 654406.65700 5297520.33700
SW_QUAD_CORNER_XY: 649727.85500 5297397.38200
SECONDARY_NW_QUAD_XY: 649552.73500 5304124.60400
SECONDARY_NE_QUAD_XY: 654226.06100 5304247.53700
SECONDARY_SE_QUAD_XY: 654411.49800 5297301.56900
SECONDARY_SW_QUAD_XY: 649732.54900 5297178.61000
RMSE_XY: 2.60000
IMAGE_SOURCE: BLACK AND WHITE FILM
SOURCE_IMAGE_ID: NAPP 9147 204
SOURCE_IMAGE_DATE: 1996 08 24
SOURCE_IMAGE_ID: NAPP 9157 249
SOURCE_IMAGE_DATE: 1997 09 05
SOURCE_IMAGE_ID: NAPP 9157 247
SOURCE_IMAGE_DATE: 1997 09 05
SOURCE_IMAGE_ID: NAPP 9147 205
SOURCE_IMAGE_DATE: 1996 08 24
SOURCE_IMAGE_ID: NAPP 9147 203
SOURCE_IMAGE_DATE: 1996 08 24
SOURCE_DEM_DATE: 1993 00 00
AGENCY: WESTERN MAPPING CENTER (WMC)
PRODUCER: UNDEFINED
PRODUCTION_SYSTEM: GIS/MAGIC
COMPRESSION: UNDEFINED
STANDARD_VERSION: 1996 12
METADATA_DATE: 2000 06 15
DATA_FILE_SIZE: 42333140
BYTE_COUNT: 5515
