FILENAME: O4710809.SES.1082502.tif
QUADRANGLE_NAME: COW ISLAND
QUADRANT: SE
WEST_LONGITUDE: -108 56 15.00000
EAST_LONGITUDE: -108 52 30.00000
NORTH_LATITUDE: 47 48 45.00000
SOUTH_LATITUDE: 47 45 0.00000
PRODUCTION_DATE: 2000 6 12
RASTER_ORDER: LEFT_RIGHT/TOP_BOTTOM
BAND_ORGANIZATION: SINGLE FILE
BAND_CONTENT: BLACK&WHITE
BAND_CONTENT: UNDEFINED
BAND_CONTENT: UNDEFINED
BITS_PER_PIXEL: 8
SAMPLES_AND_LINES: 5527 7679
HORIZONTAL_DATUM: NAD83
HORIZONTAL_COORDINATE_SYSTEM: UTM
COORDINATE_ZONE: 12
HORIZONTAL_UNITS: METERS
HORIZONTAL_RESOLUTION: 1.00000
SECONDARY_HORIZONTAL_DATUM: NAD27
XY_ORIGIN: 654051.00000 5297948.00000
SECONDARY_XY_ORIGIN: 654109.74500 5297732.10100
NATION: US
NATION: "SCIENCE
STATE: MT
NW_QUAD_CORNER_XY: 654406.65700 5297520.33700
NE_QUAD_CORNER_XY: 659085.44200 5297647.07900
SE_QUAD_CORNERY_XY: 659276.31200 5290701.18800
SW_QUAD_CORNER_XY: 654591.91000 5290574.41900
SECONDARY_NW_QUAD_XY: 654411.49800 5297301.56900
SECONDARY_NE_QUAD_XY: 659090.42900 5297428.31500
SECONDARY_SE_QUAD_XY: 659281.29900 5290482.44200
SECONDARY_SW_QUAD_XY: 654596.75000 5290355.66900
RMSE_XY: 2.10000
IMAGE_SOURCE: BLACK AND WHITE FILM
SOURCE_IMAGE_ID: NAPP 9147 125
SOURCE_IMAGE_DATE: 1996 08 24
SOURCE_IMAGE_ID: NAPP 9147 124
SOURCE_IMAGE_DATE: 1996 08 24
SOURCE_IMAGE_ID: NAPP 9147 126
SOURCE_IMAGE_DATE: 1996 08 24
SOURCE_IMAGE_ID: NAPP 9157 070
SOURCE_IMAGE_DATE: 1997 09 05
SOURCE_IMAGE_ID: NAPP 9157 071
SOURCE_IMAGE_DATE: 1997 09 05
SOURCE_DEM_DATE: 1993 00 00
AGENCY: WESTERN MAPPING CENTER (WMC)
PRODUCER: UNDEFINED
PRODUCTION_SYSTEM: GIS/MAGIC
COMPRESSION: UNDEFINED
STANDARD_VERSION: 1996 12
METADATA_DATE: 2000 06 15
DATA_FILE_SIZE: 42447360
BYTE_COUNT: 5527
