FILENAME: O4710809.SWS.1082504.tif
QUADRANGLE_NAME: COW ISLAND
QUADRANT: SW
WEST_LONGITUDE: -109 0 0.00000
EAST_LONGITUDE: -108 56 15.00000
NORTH_LATITUDE: 47 48 45.00000
SOUTH_LATITUDE: 47 45 0.00000
PRODUCTION_DATE: 2000 6 12
RASTER_ORDER: LEFT_RIGHT/TOP_BOTTOM
BAND_ORGANIZATION: SINGLE FILE
BAND_CONTENT: BLACK&WHITE
BAND_CONTENT: UNDEFINED
BAND_CONTENT: UNDEFINED
BITS_PER_PIXEL: 8
SAMPLES_AND_LINES: 5521 7675
HORIZONTAL_DATUM: NAD83
HORIZONTAL_COORDINATE_SYSTEM: UTM
COORDINATE_ZONE: 12
HORIZONTAL_UNITS: METERS
HORIZONTAL_RESOLUTION: 1.00000
SECONDARY_HORIZONTAL_DATUM: NAD27
XY_ORIGIN: 649372.00000 5297821.00000
SECONDARY_XY_ORIGIN: 649430.74500 5297605.18200
NATION: US
NATION: "SCIENCE
STATE: MT
NW_QUAD_CORNER_XY: 649727.85500 5297397.38200
NE_QUAD_CORNER_XY: 654406.65700 5297520.33700
SE_QUAD_CORNERY_XY: 654591.91000 5290574.41900
SW_QUAD_CORNER_XY: 649907.49000 5290451.43800
SECONDARY_NW_QUAD_XY: 649732.54900 5297178.61000
SECONDARY_NE_QUAD_XY: 654411.49800 5297301.56900
SECONDARY_SE_QUAD_XY: 654596.75000 5290355.66900
SECONDARY_SW_QUAD_XY: 649912.18300 5290232.68400
RMSE_XY: 3.20000
IMAGE_SOURCE: BLACK AND WHITE FILM
SOURCE_IMAGE_ID: NAPP 9147 206
SOURCE_IMAGE_DATE: 1996 08 24
SOURCE_IMAGE_ID: NAPP 9157 250
SOURCE_IMAGE_DATE: 1997 09 05
SOURCE_IMAGE_ID: NAPP 9157 249
SOURCE_IMAGE_DATE: 1997 09 05
SOURCE_IMAGE_ID: NAPP 9147 207
SOURCE_IMAGE_DATE: 1996 08 24
SOURCE_IMAGE_ID: NAPP 9147 205
SOURCE_IMAGE_DATE: 1996 08 24
SOURCE_DEM_DATE: 1993 00 00
AGENCY: WESTERN MAPPING CENTER (WMC)
PRODUCER: UNDEFINED
PRODUCTION_SYSTEM: GIS/MAGIC
COMPRESSION: UNDEFINED
STANDARD_VERSION: 1996 12
METADATA_DATE: 2000 06 15
DATA_FILE_SIZE: 42379196
BYTE_COUNT: 5521
